| Back to Multiple platform build/check report for BioC 3.7 | 
  | 
This page was generated on 2018-10-17 08:47:16 -0400 (Wed, 17 Oct 2018).
| Package 1389/1561 | Hostname | OS / Arch | INSTALL | BUILD | CHECK | BUILD BIN | ||||||
| SLqPCR 1.46.0 Matthias Kohl 
  | malbec2 | Linux (Ubuntu 16.04.1 LTS) / x86_64 | OK | OK | OK | |||||||
| tokay2 | Windows Server 2012 R2 Standard / x64 | OK | OK | OK | OK | |||||||
| merida2 | OS X 10.11.6 El Capitan / x86_64 | OK | OK | OK | [ OK ] | 
| Package: SLqPCR | 
| Version: 1.46.0 | 
| Command: rm -rf SLqPCR.buildbin-libdir && mkdir SLqPCR.buildbin-libdir && /Users/biocbuild/BBS/utils/build-universal.sh SLqPCR_1.46.0.tar.gz /Library/Frameworks/R.framework/Versions/Current/Resources/bin/R SLqPCR.buildbin-libdir | 
| StartedAt: 2018-10-17 02:09:52 -0400 (Wed, 17 Oct 2018) | 
| EndedAt: 2018-10-17 02:10:54 -0400 (Wed, 17 Oct 2018) | 
| EllapsedTime: 61.9 seconds | 
| RetCode: 0 | 
| Status: OK | 
| PackageFile: SLqPCR_1.46.0.tgz | 
| PackageFileSize: 193.6 KiB | 
############################################################################## ############################################################################## ### ### Running command: ### ### rm -rf SLqPCR.buildbin-libdir && mkdir SLqPCR.buildbin-libdir && /Users/biocbuild/BBS/utils/build-universal.sh SLqPCR_1.46.0.tar.gz /Library/Frameworks/R.framework/Versions/Current/Resources/bin/R SLqPCR.buildbin-libdir ### ############################################################################## ############################################################################## >>>>>>> >>>>>>> INSTALLATION WITH 'R CMD INSTALL --preclean --no-multiarch --library=SLqPCR.buildbin-libdir SLqPCR_1.46.0.tar.gz' >>>>>>> * installing *source* package ‘SLqPCR’ ... ** R ** data ** inst ** byte-compile and prepare package for lazy loading ** help *** installing help indices ** building package indices ** installing vignettes ** testing if installed package can be loaded * DONE (SLqPCR)