| Back to Multiple platform build/check report for BioC 3.7 |
|
This page was generated on 2018-10-17 08:33:53 -0400 (Wed, 17 Oct 2018).
| Package 1373/1561 | Hostname | OS / Arch | INSTALL | BUILD | CHECK | BUILD BIN | ||||||
| SIM 1.50.0 Renee X. de Menezes
| malbec2 | Linux (Ubuntu 16.04.1 LTS) / x86_64 | OK | OK | OK | |||||||
| tokay2 | Windows Server 2012 R2 Standard / x64 | OK | OK | OK | [ OK ] | |||||||
| merida2 | OS X 10.11.6 El Capitan / x86_64 | OK | OK | OK | OK |
| Package: SIM |
| Version: 1.50.0 |
| Command: rm -rf SIM.buildbin-libdir && mkdir SIM.buildbin-libdir && C:\Users\biocbuild\bbs-3.7-bioc\R\bin\R.exe CMD INSTALL --merge-multiarch --build --library=SIM.buildbin-libdir SIM_1.50.0.tar.gz |
| StartedAt: 2018-10-17 07:00:09 -0400 (Wed, 17 Oct 2018) |
| EndedAt: 2018-10-17 07:00:34 -0400 (Wed, 17 Oct 2018) |
| EllapsedTime: 24.3 seconds |
| RetCode: 0 |
| Status: OK |
| PackageFile: SIM_1.50.0.zip |
| PackageFileSize: 547.8 KiB |
##############################################################################
##############################################################################
###
### Running command:
###
### rm -rf SIM.buildbin-libdir && mkdir SIM.buildbin-libdir && C:\Users\biocbuild\bbs-3.7-bioc\R\bin\R.exe CMD INSTALL --merge-multiarch --build --library=SIM.buildbin-libdir SIM_1.50.0.tar.gz
###
##############################################################################
##############################################################################
install for i386
* installing *source* package 'SIM' ...
** libs
C:/Rtools/mingw_32/bin/gcc -I"C:/Users/BIOCBU˜1/BBS-3˜1.7-B/R/include" -DNDEBUG -I"C:/extsoft/include" -O3 -Wall -std=gnu99 -mtune=generic -c withinWindow.c -o withinWindow.o
C:/Rtools/mingw_32/bin/gcc -shared -s -static-libgcc -o SIM.dll tmp.def withinWindow.o -LC:/extsoft/lib/i386 -LC:/extsoft/lib -LC:/Users/BIOCBU˜1/BBS-3˜1.7-B/R/bin/i386 -lR
installing to C:/Users/biocbuild/bbs-3.7-bioc/meat/SIM.buildbin-libdir/SIM/libs/i386
** R
** data
** inst
** byte-compile and prepare package for lazy loading
** help
*** installing help indices
converting help for package 'SIM'
finding HTML links ... done
RESOURCERER.annotation.to.ID html
SIM-package html
acgh.data html
assemble.data html
chrom.table html
expr.data html
getoverlappingregions html
impute.nas.by.surrounding html
integrated.analysis html
link.metadata html
samples html
sim.plot.overlapping.indep.dep.features
html
sim.plot.pvals.on.genome html
sim.plot.pvals.on.region html
sim.plot.zoom.in html
sim.plot.zscore.heatmap html
sim.update.chrom.table html
tabulate.pvals html
tabulate.top.dep.features html
tabulate.top.indep.features html
** building package indices
** installing vignettes
** testing if installed package can be loaded
In R CMD INSTALL
install for x64
* installing *source* package 'SIM' ...
** libs
C:/Rtools/mingw_64/bin/gcc -I"C:/Users/BIOCBU˜1/BBS-3˜1.7-B/R/include" -DNDEBUG -I"C:/extsoft/include" -O2 -Wall -std=gnu99 -mtune=generic -c withinWindow.c -o withinWindow.o
C:/Rtools/mingw_64/bin/gcc -shared -s -static-libgcc -o SIM.dll tmp.def withinWindow.o -LC:/extsoft/lib/x64 -LC:/extsoft/lib -LC:/Users/BIOCBU˜1/BBS-3˜1.7-B/R/bin/x64 -lR
installing to C:/Users/biocbuild/bbs-3.7-bioc/meat/SIM.buildbin-libdir/SIM/libs/x64
** testing if installed package can be loaded
* MD5 sums
packaged installation of 'SIM' as SIM_1.50.0.zip
* DONE (SIM)
In R CMD INSTALL
In R CMD INSTALL