| Back to Multiple platform build/check report for BioC 3.7 |
|
This page was generated on 2018-10-17 08:45:30 -0400 (Wed, 17 Oct 2018).
| Package 1341/1561 | Hostname | OS / Arch | INSTALL | BUILD | CHECK | BUILD BIN | ||||||
| SEPIRA 1.0.2 Yuting Chen
| malbec2 | Linux (Ubuntu 16.04.1 LTS) / x86_64 | OK | OK | OK | |||||||
| tokay2 | Windows Server 2012 R2 Standard / x64 | OK | OK | OK | [ OK ] | |||||||
| merida2 | OS X 10.11.6 El Capitan / x86_64 | OK | OK | OK | OK |
| Package: SEPIRA |
| Version: 1.0.2 |
| Command: rm -rf SEPIRA.buildbin-libdir && mkdir SEPIRA.buildbin-libdir && C:\Users\biocbuild\bbs-3.7-bioc\R\bin\R.exe CMD INSTALL --merge-multiarch --build --library=SEPIRA.buildbin-libdir SEPIRA_1.0.2.tar.gz |
| StartedAt: 2018-10-17 06:58:35 -0400 (Wed, 17 Oct 2018) |
| EndedAt: 2018-10-17 06:58:44 -0400 (Wed, 17 Oct 2018) |
| EllapsedTime: 8.5 seconds |
| RetCode: 0 |
| Status: OK |
| PackageFile: SEPIRA_1.0.2.zip |
| PackageFileSize: 4.494 MiB |
##############################################################################
##############################################################################
###
### Running command:
###
### rm -rf SEPIRA.buildbin-libdir && mkdir SEPIRA.buildbin-libdir && C:\Users\biocbuild\bbs-3.7-bioc\R\bin\R.exe CMD INSTALL --merge-multiarch --build --library=SEPIRA.buildbin-libdir SEPIRA_1.0.2.tar.gz
###
##############################################################################
##############################################################################
install for i386
* installing *source* package 'SEPIRA' ...
** R
** data
** inst
** byte-compile and prepare package for lazy loading
** help
*** installing help indices
converting help for package 'SEPIRA'
finding HTML links ... done
ComputePCOR html
GeneExp html
InferTFact html
InferTFactPRL html
LUSCexp html
LUSCmeth html
LimmaFn html
TFeid html
VALexp html
sepiraInfNet html
sepiraRegAct html
** building package indices
** installing vignettes
** testing if installed package can be loaded
In R CMD INSTALL
install for x64
* installing *source* package 'SEPIRA' ...
** testing if installed package can be loaded
* MD5 sums
packaged installation of 'SEPIRA' as SEPIRA_1.0.2.zip
* DONE (SEPIRA)
In R CMD INSTALL
In R CMD INSTALL