| Back to Multiple platform build/check report for BioC 3.7 |
|
This page was generated on 2018-10-17 08:36:36 -0400 (Wed, 17 Oct 2018).
| Package 1319/1561 | Hostname | OS / Arch | INSTALL | BUILD | CHECK | BUILD BIN | ||||||
| SCAN.UPC 2.22.0 Stephen R. Piccolo
| malbec2 | Linux (Ubuntu 16.04.1 LTS) / x86_64 | OK | OK | OK | |||||||
| tokay2 | Windows Server 2012 R2 Standard / x64 | OK | OK | OK | [ OK ] | |||||||
| merida2 | OS X 10.11.6 El Capitan / x86_64 | OK | OK | OK | OK |
| Package: SCAN.UPC |
| Version: 2.22.0 |
| Command: rm -rf SCAN.UPC.buildbin-libdir && mkdir SCAN.UPC.buildbin-libdir && C:\Users\biocbuild\bbs-3.7-bioc\R\bin\R.exe CMD INSTALL --merge-multiarch --build --library=SCAN.UPC.buildbin-libdir SCAN.UPC_2.22.0.tar.gz |
| StartedAt: 2018-10-17 06:57:17 -0400 (Wed, 17 Oct 2018) |
| EndedAt: 2018-10-17 06:57:47 -0400 (Wed, 17 Oct 2018) |
| EllapsedTime: 30.1 seconds |
| RetCode: 0 |
| Status: OK |
| PackageFile: SCAN.UPC_2.22.0.zip |
| PackageFileSize: 467.8 KiB |
##############################################################################
##############################################################################
###
### Running command:
###
### rm -rf SCAN.UPC.buildbin-libdir && mkdir SCAN.UPC.buildbin-libdir && C:\Users\biocbuild\bbs-3.7-bioc\R\bin\R.exe CMD INSTALL --merge-multiarch --build --library=SCAN.UPC.buildbin-libdir SCAN.UPC_2.22.0.tar.gz
###
##############################################################################
##############################################################################
install for i386
* installing *source* package 'SCAN.UPC' ...
** R
** inst
** byte-compile and prepare package for lazy loading
Parallel computing support for 'oligo/crlmm': Disabled
- Load 'ff'
- Load and register a 'foreach' adaptor
Example - Using 'multicore' for 2 cores:
library(doMC)
registerDoMC(2)
================================================================================
** help
*** installing help indices
converting help for package 'SCAN.UPC'
finding HTML links ... done
BatchAdjust html
BatchAdjustFromFile html
InstallBrainArrayPackage html
ParseMetaFromGtfFile html
SCAN html
SCAN_TwoColor html
UPC_Generic html
UPC_Generic_ExpressionSet html
UPC_RNASeq html
UPC_RNASeq_Single html
UPC_TwoColor html
** building package indices
** installing vignettes
** testing if installed package can be loaded
Parallel computing support for 'oligo/crlmm': Disabled
- Load 'ff'
- Load and register a 'foreach' adaptor
Example - Using 'multicore' for 2 cores:
library(doMC)
registerDoMC(2)
================================================================================
In R CMD INSTALL
install for x64
* installing *source* package 'SCAN.UPC' ...
** testing if installed package can be loaded
Parallel computing support for 'oligo/crlmm': Disabled
- Load 'ff'
- Load and register a 'foreach' adaptor
Example - Using 'multicore' for 2 cores:
library(doMC)
registerDoMC(2)
================================================================================
* MD5 sums
packaged installation of 'SCAN.UPC' as SCAN.UPC_2.22.0.zip
* DONE (SCAN.UPC)
In R CMD INSTALL
In R CMD INSTALL