| Back to Multiple platform build/check report for BioC 3.7 |
|
This page was generated on 2018-10-17 08:28:25 -0400 (Wed, 17 Oct 2018).
| Package 1317/1561 | Hostname | OS / Arch | INSTALL | BUILD | CHECK | BUILD BIN | ||||||
| SC3 1.8.0 Vladimir Kiselev
| malbec2 | Linux (Ubuntu 16.04.1 LTS) / x86_64 | [ OK ] | OK | OK | |||||||
| tokay2 | Windows Server 2012 R2 Standard / x64 | OK | OK | OK | OK | |||||||
| merida2 | OS X 10.11.6 El Capitan / x86_64 | OK | OK | OK | OK |
| Package: SC3 |
| Version: 1.8.0 |
| Command: /home/biocbuild/bbs-3.7-bioc/R/bin/R CMD INSTALL SC3 |
| StartedAt: 2018-10-15 18:30:35 -0400 (Mon, 15 Oct 2018) |
| EndedAt: 2018-10-15 18:31:03 -0400 (Mon, 15 Oct 2018) |
| EllapsedTime: 28.2 seconds |
| RetCode: 0 |
| Status: OK |
##############################################################################
##############################################################################
###
### Running command:
###
### /home/biocbuild/bbs-3.7-bioc/R/bin/R CMD INSTALL SC3
###
##############################################################################
##############################################################################
* installing to library ‘/home/biocbuild/bbs-3.7-bioc/R/library’
* installing *source* package ‘SC3’ ...
** libs
g++ -I"/home/biocbuild/bbs-3.7-bioc/R/include" -DNDEBUG -I"/home/biocbuild/bbs-3.7-bioc/R/library/Rcpp/include" -I"/home/biocbuild/bbs-3.7-bioc/R/library/RcppArmadillo/include" -I/usr/local/include -fpic -g -O2 -Wall -c RcppExports.cpp -o RcppExports.o
In file included from /home/biocbuild/bbs-3.7-bioc/R/library/RcppArmadillo/include/armadillo:54:0,
from /home/biocbuild/bbs-3.7-bioc/R/library/RcppArmadillo/include/RcppArmadilloForward.h:46,
from /home/biocbuild/bbs-3.7-bioc/R/library/RcppArmadillo/include/RcppArmadillo.h:31,
from RcppExports.cpp:4:
/home/biocbuild/bbs-3.7-bioc/R/library/RcppArmadillo/include/armadillo_bits/compiler_setup.hpp:509:108: note: #pragma message: NOTE: suggest to enable C++14 mode for faster code; add -std=c++14 to compiler flags
#pragma message ("NOTE: suggest to enable C++14 mode for faster code; add -std=c++14 to compiler flags")
^
g++ -I"/home/biocbuild/bbs-3.7-bioc/R/include" -DNDEBUG -I"/home/biocbuild/bbs-3.7-bioc/R/library/Rcpp/include" -I"/home/biocbuild/bbs-3.7-bioc/R/library/RcppArmadillo/include" -I/usr/local/include -fpic -g -O2 -Wall -c cppFunctions.cpp -o cppFunctions.o
In file included from /home/biocbuild/bbs-3.7-bioc/R/library/RcppArmadillo/include/armadillo:54:0,
from /home/biocbuild/bbs-3.7-bioc/R/library/RcppArmadillo/include/RcppArmadilloForward.h:46,
from /home/biocbuild/bbs-3.7-bioc/R/library/RcppArmadillo/include/RcppArmadillo.h:31,
from cppFunctions.cpp:1:
/home/biocbuild/bbs-3.7-bioc/R/library/RcppArmadillo/include/armadillo_bits/compiler_setup.hpp:509:108: note: #pragma message: NOTE: suggest to enable C++14 mode for faster code; add -std=c++14 to compiler flags
#pragma message ("NOTE: suggest to enable C++14 mode for faster code; add -std=c++14 to compiler flags")
^
cppFunctions.cpp: In function ‘arma::mat consmx(arma::mat)’:
cppFunctions.cpp:63:16: warning: comparison between signed and unsigned integer expressions [-Wsign-compare]
for (j = 0; j < dat.n_cols; j++) {
^
cppFunctions.cpp:64:17: warning: comparison between signed and unsigned integer expressions [-Wsign-compare]
for (i = 0; i < dat.n_rows; i++) {
^
cppFunctions.cpp:65:22: warning: comparison between signed and unsigned integer expressions [-Wsign-compare]
for (k = i + 1; k < dat.n_rows; k++) {
^
g++ -shared -L/home/biocbuild/bbs-3.7-bioc/R/lib -L/usr/local/lib -o SC3.so RcppExports.o cppFunctions.o -L/home/biocbuild/bbs-3.7-bioc/R/lib -lRlapack -L/home/biocbuild/bbs-3.7-bioc/R/lib -lRblas -lgfortran -lm -lquadmath -L/home/biocbuild/bbs-3.7-bioc/R/lib -lR
installing to /home/biocbuild/bbs-3.7-bioc/R/library/SC3/libs
** R
** data
*** moving datasets to lazyload DB
** inst
** byte-compile and prepare package for lazy loading
** help
*** installing help indices
** building package indices
** installing vignettes
** testing if installed package can be loaded
* DONE (SC3)