| Back to Multiple platform build/check report for BioC 3.7 |
|
This page was generated on 2018-10-17 08:31:51 -0400 (Wed, 17 Oct 2018).
| Package 1232/1561 | Hostname | OS / Arch | INSTALL | BUILD | CHECK | BUILD BIN | ||||||
| Rgraphviz 2.24.0 Kasper Daniel Hansen
| malbec2 | Linux (Ubuntu 16.04.1 LTS) / x86_64 | OK | OK | WARNINGS | |||||||
| tokay2 | Windows Server 2012 R2 Standard / x64 | [ OK ] | OK | OK | OK | |||||||
| merida2 | OS X 10.11.6 El Capitan / x86_64 | OK | OK | WARNINGS | OK |
| Package: Rgraphviz |
| Version: 2.24.0 |
| Command: C:\cygwin\bin\curl.exe -O https://malbec2.bioconductor.org/BBS/3.7/bioc/src/contrib/Rgraphviz_2.24.0.tar.gz && rm -rf Rgraphviz.buildbin-libdir && mkdir Rgraphviz.buildbin-libdir && C:\Users\biocbuild\bbs-3.7-bioc\R\bin\R.exe CMD INSTALL --merge-multiarch --build --library=Rgraphviz.buildbin-libdir Rgraphviz_2.24.0.tar.gz && C:\Users\biocbuild\bbs-3.7-bioc\R\bin\R.exe CMD INSTALL Rgraphviz_2.24.0.zip && rm Rgraphviz_2.24.0.tar.gz Rgraphviz_2.24.0.zip |
| StartedAt: 2018-10-16 19:21:11 -0400 (Tue, 16 Oct 2018) |
| EndedAt: 2018-10-16 19:23:37 -0400 (Tue, 16 Oct 2018) |
| EllapsedTime: 145.5 seconds |
| RetCode: 0 |
| Status: OK |
##############################################################################
##############################################################################
###
### Running command:
###
### C:\cygwin\bin\curl.exe -O https://malbec2.bioconductor.org/BBS/3.7/bioc/src/contrib/Rgraphviz_2.24.0.tar.gz && rm -rf Rgraphviz.buildbin-libdir && mkdir Rgraphviz.buildbin-libdir && C:\Users\biocbuild\bbs-3.7-bioc\R\bin\R.exe CMD INSTALL --merge-multiarch --build --library=Rgraphviz.buildbin-libdir Rgraphviz_2.24.0.tar.gz && C:\Users\biocbuild\bbs-3.7-bioc\R\bin\R.exe CMD INSTALL Rgraphviz_2.24.0.zip && rm Rgraphviz_2.24.0.tar.gz Rgraphviz_2.24.0.zip
###
##############################################################################
##############################################################################
% Total % Received % Xferd Average Speed Time Time Time Current
Dload Upload Total Spent Left Speed
0 0 0 0 0 0 0 0 --:--:-- --:--:-- --:--:-- 0
100 6787k 100 6787k 0 0 61.2M 0 --:--:-- --:--:-- --:--:-- 64.9M
install for i386
* installing *source* package 'Rgraphviz' ...
**********************************************
WARNING: this package has a configure script
It probably needs manual configuration
**********************************************
** libs
C:/Rtools/mingw_32/bin/gcc -I"C:/Users/BIOCBU˜1/BBS-3˜1.7-B/R/include" -DNDEBUG -I"C:/extsoft/include" -Ilibwin/i386/include/graphviz -DHAVE_STDBOOL_H=1 -DHAVE_BOOL=1 -DGRAPHVIZ_MAJOR=2 -DGRAPHVIZ_MINOR=28 -DGRAPHVIZ_STATIC -O3 -Wall -std=gnu99 -mtune=generic -c LL_funcs.c -o LL_funcs.o
LL_funcs.c: In function 'Rgraphviz_agopenSimple':
LL_funcs.c:430:29: warning: variable 'curNode' set but not used [-Wunused-but-set-variable]
Agnode_t *head, *tail, *curNode;
^
C:/Rtools/mingw_32/bin/gcc -I"C:/Users/BIOCBU˜1/BBS-3˜1.7-B/R/include" -DNDEBUG -I"C:/extsoft/include" -Ilibwin/i386/include/graphviz -DHAVE_STDBOOL_H=1 -DHAVE_BOOL=1 -DGRAPHVIZ_MAJOR=2 -DGRAPHVIZ_MINOR=28 -DGRAPHVIZ_STATIC -O3 -Wall -std=gnu99 -mtune=generic -c Rgraphviz.c -o Rgraphviz.o
C:/Rtools/mingw_32/bin/gcc -I"C:/Users/BIOCBU˜1/BBS-3˜1.7-B/R/include" -DNDEBUG -I"C:/extsoft/include" -Ilibwin/i386/include/graphviz -DHAVE_STDBOOL_H=1 -DHAVE_BOOL=1 -DGRAPHVIZ_MAJOR=2 -DGRAPHVIZ_MINOR=28 -DGRAPHVIZ_STATIC -O3 -Wall -std=gnu99 -mtune=generic -c RgraphvizInit.c -o RgraphvizInit.o
C:/Rtools/mingw_32/bin/gcc -I"C:/Users/BIOCBU˜1/BBS-3˜1.7-B/R/include" -DNDEBUG -I"C:/extsoft/include" -Ilibwin/i386/include/graphviz -DHAVE_STDBOOL_H=1 -DHAVE_BOOL=1 -DGRAPHVIZ_MAJOR=2 -DGRAPHVIZ_MINOR=28 -DGRAPHVIZ_STATIC -O3 -Wall -std=gnu99 -mtune=generic -c agopen.c -o agopen.o
C:/Rtools/mingw_32/bin/gcc -I"C:/Users/BIOCBU˜1/BBS-3˜1.7-B/R/include" -DNDEBUG -I"C:/extsoft/include" -Ilibwin/i386/include/graphviz -DHAVE_STDBOOL_H=1 -DHAVE_BOOL=1 -DGRAPHVIZ_MAJOR=2 -DGRAPHVIZ_MINOR=28 -DGRAPHVIZ_STATIC -O3 -Wall -std=gnu99 -mtune=generic -c agread.c -o agread.o
C:/Rtools/mingw_32/bin/gcc -I"C:/Users/BIOCBU˜1/BBS-3˜1.7-B/R/include" -DNDEBUG -I"C:/extsoft/include" -Ilibwin/i386/include/graphviz -DHAVE_STDBOOL_H=1 -DHAVE_BOOL=1 -DGRAPHVIZ_MAJOR=2 -DGRAPHVIZ_MINOR=28 -DGRAPHVIZ_STATIC -O3 -Wall -std=gnu99 -mtune=generic -c agwrite.c -o agwrite.o
C:/Rtools/mingw_32/bin/gcc -I"C:/Users/BIOCBU˜1/BBS-3˜1.7-B/R/include" -DNDEBUG -I"C:/extsoft/include" -Ilibwin/i386/include/graphviz -DHAVE_STDBOOL_H=1 -DHAVE_BOOL=1 -DGRAPHVIZ_MAJOR=2 -DGRAPHVIZ_MINOR=28 -DGRAPHVIZ_STATIC -O3 -Wall -std=gnu99 -mtune=generic -c bezier.c -o bezier.o
C:/Rtools/mingw_32/bin/gcc -I"C:/Users/BIOCBU˜1/BBS-3˜1.7-B/R/include" -DNDEBUG -I"C:/extsoft/include" -Ilibwin/i386/include/graphviz -DHAVE_STDBOOL_H=1 -DHAVE_BOOL=1 -DGRAPHVIZ_MAJOR=2 -DGRAPHVIZ_MINOR=28 -DGRAPHVIZ_STATIC -O3 -Wall -std=gnu99 -mtune=generic -c buildEdgeList.c -o buildEdgeList.o
C:/Rtools/mingw_32/bin/gcc -I"C:/Users/BIOCBU˜1/BBS-3˜1.7-B/R/include" -DNDEBUG -I"C:/extsoft/include" -Ilibwin/i386/include/graphviz -DHAVE_STDBOOL_H=1 -DHAVE_BOOL=1 -DGRAPHVIZ_MAJOR=2 -DGRAPHVIZ_MINOR=28 -DGRAPHVIZ_STATIC -O3 -Wall -std=gnu99 -mtune=generic -c buildNodeList.c -o buildNodeList.o
C:/Rtools/mingw_32/bin/gcc -I"C:/Users/BIOCBU˜1/BBS-3˜1.7-B/R/include" -DNDEBUG -I"C:/extsoft/include" -Ilibwin/i386/include/graphviz -DHAVE_STDBOOL_H=1 -DHAVE_BOOL=1 -DGRAPHVIZ_MAJOR=2 -DGRAPHVIZ_MINOR=28 -DGRAPHVIZ_STATIC -O3 -Wall -std=gnu99 -mtune=generic -c doLayout.c -o doLayout.o
C:/Rtools/mingw_32/bin/gcc -I"C:/Users/BIOCBU˜1/BBS-3˜1.7-B/R/include" -DNDEBUG -I"C:/extsoft/include" -Ilibwin/i386/include/graphviz -DHAVE_STDBOOL_H=1 -DHAVE_BOOL=1 -DGRAPHVIZ_MAJOR=2 -DGRAPHVIZ_MINOR=28 -DGRAPHVIZ_STATIC -O3 -Wall -std=gnu99 -mtune=generic -c graphvizVersion.c -o graphvizVersion.o
C:/Rtools/mingw_32/bin/gcc -I"C:/Users/BIOCBU˜1/BBS-3˜1.7-B/R/include" -DNDEBUG -I"C:/extsoft/include" -Ilibwin/i386/include/graphviz -DHAVE_STDBOOL_H=1 -DHAVE_BOOL=1 -DGRAPHVIZ_MAJOR=2 -DGRAPHVIZ_MINOR=28 -DGRAPHVIZ_STATIC -O3 -Wall -std=gnu99 -mtune=generic -c init.c -o init.o
C:/Rtools/mingw_32/bin/gcc -shared -s -static-libgcc -o Rgraphviz.dll tmp.def LL_funcs.o Rgraphviz.o RgraphvizInit.o agopen.o agread.o agwrite.o bezier.o buildEdgeList.o buildNodeList.o doLayout.o graphvizVersion.o init.o libwin/i386/lib/libxdot.a libwin/i386/lib/libgvplugin_dot_layout.a libwin/i386/lib/libgvplugin_neato_layout.a libwin/i386/lib/libgvplugin_core.a libwin/i386/lib/libgvc.a libwin/i386/lib/libpathplan.a libwin/i386/lib/libgraph.a libwin/i386/lib/libcdt.a -LC:/extsoft/lib/i386 -LC:/extsoft/lib -LC:/Users/BIOCBU˜1/BBS-3˜1.7-B/R/bin/i386 -lR
sed "s!@GRAPHVIZ_VERSION@!"2.28.0"!" ../R/graphviz_build_version.R.in |\
sed "s!@GRAPHVIZ_BUNDLED@!TRUE!" > ../R/graphviz_build_version.R
installing to C:/Users/biocbuild/bbs-3.7-bioc/meat/Rgraphviz.buildbin-libdir/Rgraphviz/libs/i386
** R
** inst
** byte-compile and prepare package for lazy loading
** help
*** installing help indices
converting help for package 'Rgraphviz'
finding HTML links ... done
AgEdge-class html
AgNode-class html
AgTextLabel-class html
BezierCurve-class html
GraphvizAttributes html
GraphvizLayouts html
Ragraph-class html
agopen html
agopenSimple html
agwrite html
boundingBox-class html
buildNodeList html
clusterData-methods html
getDefaultAttrs html
graphData-methods html
graphDataDefaults-methods html
graphLayout html
graphvizCapabilities html
graphvizVersion html
layoutGraph html
makeNodeAttrs html
pEdge-class html
pNode-class html
pieGlyph html
plot-methods html
removedEdges html
renderGraph html
toDot-methods html
toFile html
xyPoint-class html
** building package indices
** installing vignettes
** testing if installed package can be loaded
In R CMD INSTALL
install for x64
* installing *source* package 'Rgraphviz' ...
**********************************************
WARNING: this package has a configure script
It probably needs manual configuration
**********************************************
** libs
C:/Rtools/mingw_64/bin/gcc -I"C:/Users/BIOCBU˜1/BBS-3˜1.7-B/R/include" -DNDEBUG -I"C:/extsoft/include" -Ilibwin/x64/include/graphviz -DHAVE_STDBOOL_H=1 -DHAVE_BOOL=1 -DGRAPHVIZ_MAJOR=2 -DGRAPHVIZ_MINOR=28 -DGRAPHVIZ_STATIC -O2 -Wall -std=gnu99 -mtune=generic -c LL_funcs.c -o LL_funcs.o
LL_funcs.c: In function 'Rgraphviz_agopenSimple':
LL_funcs.c:430:29: warning: variable 'curNode' set but not used [-Wunused-but-set-variable]
Agnode_t *head, *tail, *curNode;
^
C:/Rtools/mingw_64/bin/gcc -I"C:/Users/BIOCBU˜1/BBS-3˜1.7-B/R/include" -DNDEBUG -I"C:/extsoft/include" -Ilibwin/x64/include/graphviz -DHAVE_STDBOOL_H=1 -DHAVE_BOOL=1 -DGRAPHVIZ_MAJOR=2 -DGRAPHVIZ_MINOR=28 -DGRAPHVIZ_STATIC -O2 -Wall -std=gnu99 -mtune=generic -c Rgraphviz.c -o Rgraphviz.o
C:/Rtools/mingw_64/bin/gcc -I"C:/Users/BIOCBU˜1/BBS-3˜1.7-B/R/include" -DNDEBUG -I"C:/extsoft/include" -Ilibwin/x64/include/graphviz -DHAVE_STDBOOL_H=1 -DHAVE_BOOL=1 -DGRAPHVIZ_MAJOR=2 -DGRAPHVIZ_MINOR=28 -DGRAPHVIZ_STATIC -O2 -Wall -std=gnu99 -mtune=generic -c RgraphvizInit.c -o RgraphvizInit.o
C:/Rtools/mingw_64/bin/gcc -I"C:/Users/BIOCBU˜1/BBS-3˜1.7-B/R/include" -DNDEBUG -I"C:/extsoft/include" -Ilibwin/x64/include/graphviz -DHAVE_STDBOOL_H=1 -DHAVE_BOOL=1 -DGRAPHVIZ_MAJOR=2 -DGRAPHVIZ_MINOR=28 -DGRAPHVIZ_STATIC -O2 -Wall -std=gnu99 -mtune=generic -c agopen.c -o agopen.o
C:/Rtools/mingw_64/bin/gcc -I"C:/Users/BIOCBU˜1/BBS-3˜1.7-B/R/include" -DNDEBUG -I"C:/extsoft/include" -Ilibwin/x64/include/graphviz -DHAVE_STDBOOL_H=1 -DHAVE_BOOL=1 -DGRAPHVIZ_MAJOR=2 -DGRAPHVIZ_MINOR=28 -DGRAPHVIZ_STATIC -O2 -Wall -std=gnu99 -mtune=generic -c agread.c -o agread.o
C:/Rtools/mingw_64/bin/gcc -I"C:/Users/BIOCBU˜1/BBS-3˜1.7-B/R/include" -DNDEBUG -I"C:/extsoft/include" -Ilibwin/x64/include/graphviz -DHAVE_STDBOOL_H=1 -DHAVE_BOOL=1 -DGRAPHVIZ_MAJOR=2 -DGRAPHVIZ_MINOR=28 -DGRAPHVIZ_STATIC -O2 -Wall -std=gnu99 -mtune=generic -c agwrite.c -o agwrite.o
C:/Rtools/mingw_64/bin/gcc -I"C:/Users/BIOCBU˜1/BBS-3˜1.7-B/R/include" -DNDEBUG -I"C:/extsoft/include" -Ilibwin/x64/include/graphviz -DHAVE_STDBOOL_H=1 -DHAVE_BOOL=1 -DGRAPHVIZ_MAJOR=2 -DGRAPHVIZ_MINOR=28 -DGRAPHVIZ_STATIC -O2 -Wall -std=gnu99 -mtune=generic -c bezier.c -o bezier.o
C:/Rtools/mingw_64/bin/gcc -I"C:/Users/BIOCBU˜1/BBS-3˜1.7-B/R/include" -DNDEBUG -I"C:/extsoft/include" -Ilibwin/x64/include/graphviz -DHAVE_STDBOOL_H=1 -DHAVE_BOOL=1 -DGRAPHVIZ_MAJOR=2 -DGRAPHVIZ_MINOR=28 -DGRAPHVIZ_STATIC -O2 -Wall -std=gnu99 -mtune=generic -c buildEdgeList.c -o buildEdgeList.o
C:/Rtools/mingw_64/bin/gcc -I"C:/Users/BIOCBU˜1/BBS-3˜1.7-B/R/include" -DNDEBUG -I"C:/extsoft/include" -Ilibwin/x64/include/graphviz -DHAVE_STDBOOL_H=1 -DHAVE_BOOL=1 -DGRAPHVIZ_MAJOR=2 -DGRAPHVIZ_MINOR=28 -DGRAPHVIZ_STATIC -O2 -Wall -std=gnu99 -mtune=generic -c buildNodeList.c -o buildNodeList.o
C:/Rtools/mingw_64/bin/gcc -I"C:/Users/BIOCBU˜1/BBS-3˜1.7-B/R/include" -DNDEBUG -I"C:/extsoft/include" -Ilibwin/x64/include/graphviz -DHAVE_STDBOOL_H=1 -DHAVE_BOOL=1 -DGRAPHVIZ_MAJOR=2 -DGRAPHVIZ_MINOR=28 -DGRAPHVIZ_STATIC -O2 -Wall -std=gnu99 -mtune=generic -c doLayout.c -o doLayout.o
C:/Rtools/mingw_64/bin/gcc -I"C:/Users/BIOCBU˜1/BBS-3˜1.7-B/R/include" -DNDEBUG -I"C:/extsoft/include" -Ilibwin/x64/include/graphviz -DHAVE_STDBOOL_H=1 -DHAVE_BOOL=1 -DGRAPHVIZ_MAJOR=2 -DGRAPHVIZ_MINOR=28 -DGRAPHVIZ_STATIC -O2 -Wall -std=gnu99 -mtune=generic -c graphvizVersion.c -o graphvizVersion.o
C:/Rtools/mingw_64/bin/gcc -I"C:/Users/BIOCBU˜1/BBS-3˜1.7-B/R/include" -DNDEBUG -I"C:/extsoft/include" -Ilibwin/x64/include/graphviz -DHAVE_STDBOOL_H=1 -DHAVE_BOOL=1 -DGRAPHVIZ_MAJOR=2 -DGRAPHVIZ_MINOR=28 -DGRAPHVIZ_STATIC -O2 -Wall -std=gnu99 -mtune=generic -c init.c -o init.o
C:/Rtools/mingw_64/bin/gcc -shared -s -static-libgcc -o Rgraphviz.dll tmp.def LL_funcs.o Rgraphviz.o RgraphvizInit.o agopen.o agread.o agwrite.o bezier.o buildEdgeList.o buildNodeList.o doLayout.o graphvizVersion.o init.o libwin/x64/lib/libxdot.a libwin/x64/lib/libgvplugin_dot_layout.a libwin/x64/lib/libgvplugin_neato_layout.a libwin/x64/lib/libgvplugin_core.a libwin/x64/lib/libgvc.a libwin/x64/lib/libpathplan.a libwin/x64/lib/libgraph.a libwin/x64/lib/libcdt.a -LC:/extsoft/lib/x64 -LC:/extsoft/lib -LC:/Users/BIOCBU˜1/BBS-3˜1.7-B/R/bin/x64 -lR
sed "s!@GRAPHVIZ_VERSION@!"2.28.0"!" ../R/graphviz_build_version.R.in |\
sed "s!@GRAPHVIZ_BUNDLED@!TRUE!" > ../R/graphviz_build_version.R
installing to C:/Users/biocbuild/bbs-3.7-bioc/meat/Rgraphviz.buildbin-libdir/Rgraphviz/libs/x64
** testing if installed package can be loaded
* MD5 sums
packaged installation of 'Rgraphviz' as Rgraphviz_2.24.0.zip
* DONE (Rgraphviz)
In R CMD INSTALL
In R CMD INSTALL
* installing to library 'C:/Users/biocbuild/bbs-3.7-bioc/R/library'
package 'Rgraphviz' successfully unpacked and MD5 sums checked
In R CMD INSTALL