| Back to Multiple platform build/check report for BioC 3.7 |
|
This page was generated on 2018-10-17 08:36:35 -0400 (Wed, 17 Oct 2018).
| Package 1222/1561 | Hostname | OS / Arch | INSTALL | BUILD | CHECK | BUILD BIN | ||||||
| ReportingTools 2.20.0 Jason A. Hackney
| malbec2 | Linux (Ubuntu 16.04.1 LTS) / x86_64 | OK | OK | OK | |||||||
| tokay2 | Windows Server 2012 R2 Standard / x64 | OK | OK | OK | [ OK ] | |||||||
| merida2 | OS X 10.11.6 El Capitan / x86_64 | OK | OK | OK | OK |
| Package: ReportingTools |
| Version: 2.20.0 |
| Command: rm -rf ReportingTools.buildbin-libdir && mkdir ReportingTools.buildbin-libdir && C:\Users\biocbuild\bbs-3.7-bioc\R\bin\R.exe CMD INSTALL --merge-multiarch --build --library=ReportingTools.buildbin-libdir ReportingTools_2.20.0.tar.gz |
| StartedAt: 2018-10-17 06:53:10 -0400 (Wed, 17 Oct 2018) |
| EndedAt: 2018-10-17 06:54:06 -0400 (Wed, 17 Oct 2018) |
| EllapsedTime: 56.5 seconds |
| RetCode: 0 |
| Status: OK |
| PackageFile: ReportingTools_2.20.0.zip |
| PackageFileSize: 2.233 MiB |
##############################################################################
##############################################################################
###
### Running command:
###
### rm -rf ReportingTools.buildbin-libdir && mkdir ReportingTools.buildbin-libdir && C:\Users\biocbuild\bbs-3.7-bioc\R\bin\R.exe CMD INSTALL --merge-multiarch --build --library=ReportingTools.buildbin-libdir ReportingTools_2.20.0.tar.gz
###
##############################################################################
##############################################################################
install for i386
* installing *source* package 'ReportingTools' ...
** R
** data
** inst
** byte-compile and prepare package for lazy loading
in method for 'objectToHTML' with signature 'object="ggbio"': no definition for class "ggbio"
** help
*** installing help indices
converting help for package 'ReportingTools'
finding HTML links ... done
BaseReportType-class html
CSVFile-class html
CSVFile html
DataPackage-class html
DataPackage html
HTMLReport-class html
HTMLReport html
HTMLReportRef-class html
Link html
ReportHandlers-class html
addReportColumns-methods html
custHeaderPanel html
filename-methods html
finish-methods html
makeDESeqDF html
mockRnaSeqData html
objectToHTML-methods html
publish-methods html
finding level-2 HTML links ... done
readReport html
reporting.theme html
reporting.theme.alternate html
toReportDF-methods html
validConnection html
** building package indices
** installing vignettes
** testing if installed package can be loaded
In R CMD INSTALL
install for x64
* installing *source* package 'ReportingTools' ...
** testing if installed package can be loaded
* MD5 sums
packaged installation of 'ReportingTools' as ReportingTools_2.20.0.zip
* DONE (ReportingTools)
In R CMD INSTALL
In R CMD INSTALL