| Back to Multiple platform build/check report for BioC 3.7 |
|
This page was generated on 2018-10-17 08:52:53 -0400 (Wed, 17 Oct 2018).
| Package 1215/1561 | Hostname | OS / Arch | INSTALL | BUILD | CHECK | BUILD BIN | ||||||
| RefNet 1.16.0 Paul Shannon
| malbec2 | Linux (Ubuntu 16.04.1 LTS) / x86_64 | OK | OK | OK | |||||||
| tokay2 | Windows Server 2012 R2 Standard / x64 | OK | OK | OK | OK | |||||||
| merida2 | OS X 10.11.6 El Capitan / x86_64 | OK | OK | ERROR | [ OK ] |
| Package: RefNet |
| Version: 1.16.0 |
| Command: rm -rf RefNet.buildbin-libdir && mkdir RefNet.buildbin-libdir && /Users/biocbuild/BBS/utils/build-universal.sh RefNet_1.16.0.tar.gz /Library/Frameworks/R.framework/Versions/Current/Resources/bin/R RefNet.buildbin-libdir |
| StartedAt: 2018-10-17 01:59:50 -0400 (Wed, 17 Oct 2018) |
| EndedAt: 2018-10-17 02:01:37 -0400 (Wed, 17 Oct 2018) |
| EllapsedTime: 107.0 seconds |
| RetCode: 0 |
| Status: OK |
| PackageFile: RefNet_1.16.0.tgz |
| PackageFileSize: 449.4 KiB |
############################################################################## ############################################################################## ### ### Running command: ### ### rm -rf RefNet.buildbin-libdir && mkdir RefNet.buildbin-libdir && /Users/biocbuild/BBS/utils/build-universal.sh RefNet_1.16.0.tar.gz /Library/Frameworks/R.framework/Versions/Current/Resources/bin/R RefNet.buildbin-libdir ### ############################################################################## ############################################################################## >>>>>>> >>>>>>> INSTALLATION WITH 'R CMD INSTALL --preclean --no-multiarch --library=RefNet.buildbin-libdir RefNet_1.16.0.tar.gz' >>>>>>> * installing *source* package ‘RefNet’ ... ** R ** inst ** byte-compile and prepare package for lazy loading Warning: replacing previous import ‘IRanges::desc’ by ‘plyr::desc’ when loading ‘PSICQUIC’ ** help *** installing help indices ** building package indices ** installing vignettes ** testing if installed package can be loaded Warning: replacing previous import ‘IRanges::desc’ by ‘plyr::desc’ when loading ‘PSICQUIC’ * DONE (RefNet)