| Back to Multiple platform build/check report for BioC 3.7 |
|
This page was generated on 2018-10-17 08:35:29 -0400 (Wed, 17 Oct 2018).
| Package 1209/1561 | Hostname | OS / Arch | INSTALL | BUILD | CHECK | BUILD BIN | ||||||
| ReadqPCR 1.26.0 James Perkins
| malbec2 | Linux (Ubuntu 16.04.1 LTS) / x86_64 | OK | OK | OK | |||||||
| tokay2 | Windows Server 2012 R2 Standard / x64 | OK | OK | WARNINGS | [ OK ] | |||||||
| merida2 | OS X 10.11.6 El Capitan / x86_64 | OK | OK | OK | OK |
| Package: ReadqPCR |
| Version: 1.26.0 |
| Command: rm -rf ReadqPCR.buildbin-libdir && mkdir ReadqPCR.buildbin-libdir && C:\Users\biocbuild\bbs-3.7-bioc\R\bin\R.exe CMD INSTALL --merge-multiarch --build --library=ReadqPCR.buildbin-libdir ReadqPCR_1.26.0.tar.gz |
| StartedAt: 2018-10-17 06:52:32 -0400 (Wed, 17 Oct 2018) |
| EndedAt: 2018-10-17 06:52:42 -0400 (Wed, 17 Oct 2018) |
| EllapsedTime: 9.7 seconds |
| RetCode: 0 |
| Status: OK |
| PackageFile: ReadqPCR_1.26.0.zip |
| PackageFileSize: 520.5 KiB |
##############################################################################
##############################################################################
###
### Running command:
###
### rm -rf ReadqPCR.buildbin-libdir && mkdir ReadqPCR.buildbin-libdir && C:\Users\biocbuild\bbs-3.7-bioc\R\bin\R.exe CMD INSTALL --merge-multiarch --build --library=ReadqPCR.buildbin-libdir ReadqPCR_1.26.0.tar.gz
###
##############################################################################
##############################################################################
install for i386
* installing *source* package 'ReadqPCR' ...
** R
** inst
** byte-compile and prepare package for lazy loading
** help
*** installing help indices
converting help for package 'ReadqPCR'
finding HTML links ... done
CyclesSet-class html
ReadqPCR-package html
merge html
qPCRBatch-class html
qpcR2CyclesSet html
Rd warning: C:/Users/biocbuild/bbs-3.7-bioc/tmpdir/Rtmpmmj7nw/R.INSTALL185013275331/ReadqPCR/man/qpcR2CyclesSet.Rd:30: file link 'reps' in package 'qpcR' does not exist and so has been treated as a topic
read.qPCR html
Rd warning: C:/Users/biocbuild/bbs-3.7-bioc/tmpdir/Rtmpmmj7nw/R.INSTALL185013275331/ReadqPCR/man/read.qPCR.Rd:43: file link 'ExpressionSet-class' in package 'Biobase' does not exist and so has been treated as a topic
read.taqman html
Rd warning: C:/Users/biocbuild/bbs-3.7-bioc/tmpdir/Rtmpmmj7nw/R.INSTALL185013275331/ReadqPCR/man/read.taqman.Rd:46: file link 'ExpressionSet-class' in package 'Biobase' does not exist and so has been treated as a topic
readLC480 html
Rd warning: C:/Users/biocbuild/bbs-3.7-bioc/tmpdir/Rtmpmmj7nw/R.INSTALL185013275331/ReadqPCR/man/readLC480.Rd:61: file link 'eSet' in package 'Biobase' does not exist and so has been treated as a topic
readLC480SampleInfo html
Rd warning: C:/Users/biocbuild/bbs-3.7-bioc/tmpdir/Rtmpmmj7nw/R.INSTALL185013275331/ReadqPCR/man/readLC480SampleInfo.Rd:54: file link 'AnnotatedDataFrame-class' in package 'Biobase' does not exist and so has been treated as a topic
** building package indices
** installing vignettes
** testing if installed package can be loaded
In R CMD INSTALL
install for x64
* installing *source* package 'ReadqPCR' ...
** testing if installed package can be loaded
* MD5 sums
packaged installation of 'ReadqPCR' as ReadqPCR_1.26.0.zip
* DONE (ReadqPCR)
In R CMD INSTALL
In R CMD INSTALL