| Back to Multiple platform build/check report for BioC 3.7 |
|
This page was generated on 2018-10-17 08:33:36 -0400 (Wed, 17 Oct 2018).
| Package 1205/1561 | Hostname | OS / Arch | INSTALL | BUILD | CHECK | BUILD BIN | ||||||
| Rdisop 1.40.0 Steffen Neumann
| malbec2 | Linux (Ubuntu 16.04.1 LTS) / x86_64 | OK | OK | OK | |||||||
| tokay2 | Windows Server 2012 R2 Standard / x64 | OK | [ OK ] | OK | OK | |||||||
| merida2 | OS X 10.11.6 El Capitan / x86_64 | OK | OK | OK | OK |
| Package: Rdisop |
| Version: 1.40.0 |
| Command: chmod a+r Rdisop -R && C:\Users\biocbuild\bbs-3.7-bioc\R\bin\R.exe CMD build --keep-empty-dirs --no-resave-data Rdisop |
| StartedAt: 2018-10-16 21:01:44 -0400 (Tue, 16 Oct 2018) |
| EndedAt: 2018-10-16 21:02:32 -0400 (Tue, 16 Oct 2018) |
| EllapsedTime: 47.4 seconds |
| RetCode: 0 |
| Status: OK |
| PackageFile: Rdisop_1.40.0.tar.gz |
| PackageFileSize: 1005 KiB |
############################################################################## ############################################################################## ### ### Running command: ### ### chmod a+r Rdisop -R && C:\Users\biocbuild\bbs-3.7-bioc\R\bin\R.exe CMD build --keep-empty-dirs --no-resave-data Rdisop ### ############################################################################## ############################################################################## * checking for file 'Rdisop/DESCRIPTION' ... OK * preparing 'Rdisop': * checking DESCRIPTION meta-information ... OK * cleaning src * installing the package to build vignettes * creating vignettes ... OK * cleaning src * checking for LF line-endings in source and make files and shell scripts * checking for empty or unneeded directories * building 'Rdisop_1.40.0.tar.gz' Warning: file 'Rdisop/cleanup' did not have execute permissions: corrected Warning: file 'Rdisop/src/imslib/configure' did not have execute permissions: corrected