| Back to Multiple platform build/check report for BioC 3.7 |
|
This page was generated on 2018-10-17 08:54:56 -0400 (Wed, 17 Oct 2018).
| Package 1182/1561 | Hostname | OS / Arch | INSTALL | BUILD | CHECK | BUILD BIN | ||||||
| RareVariantVis 2.8.0 Tomasz Stokowy
| malbec2 | Linux (Ubuntu 16.04.1 LTS) / x86_64 | OK | OK | OK | |||||||
| tokay2 | Windows Server 2012 R2 Standard / x64 | OK | OK | OK | OK | |||||||
| merida2 | OS X 10.11.6 El Capitan / x86_64 | OK | OK | OK | [ OK ] |
| Package: RareVariantVis |
| Version: 2.8.0 |
| Command: rm -rf RareVariantVis.buildbin-libdir && mkdir RareVariantVis.buildbin-libdir && /Users/biocbuild/BBS/utils/build-universal.sh RareVariantVis_2.8.0.tar.gz /Library/Frameworks/R.framework/Versions/Current/Resources/bin/R RareVariantVis.buildbin-libdir |
| StartedAt: 2018-10-17 01:56:06 -0400 (Wed, 17 Oct 2018) |
| EndedAt: 2018-10-17 01:57:40 -0400 (Wed, 17 Oct 2018) |
| EllapsedTime: 94.2 seconds |
| RetCode: 0 |
| Status: OK |
| PackageFile: RareVariantVis_2.8.0.tgz |
| PackageFileSize: 2.719 MiB |
############################################################################## ############################################################################## ### ### Running command: ### ### rm -rf RareVariantVis.buildbin-libdir && mkdir RareVariantVis.buildbin-libdir && /Users/biocbuild/BBS/utils/build-universal.sh RareVariantVis_2.8.0.tar.gz /Library/Frameworks/R.framework/Versions/Current/Resources/bin/R RareVariantVis.buildbin-libdir ### ############################################################################## ############################################################################## >>>>>>> >>>>>>> INSTALLATION WITH 'R CMD INSTALL --preclean --no-multiarch --library=RareVariantVis.buildbin-libdir RareVariantVis_2.8.0.tar.gz' >>>>>>> * installing *source* package ‘RareVariantVis’ ... ** R ** inst ** byte-compile and prepare package for lazy loading Creating a generic function for ‘toJSON’ from package ‘jsonlite’ in package ‘googleVis’ ** help *** installing help indices ** building package indices ** installing vignettes ** testing if installed package can be loaded Creating a generic function for ‘toJSON’ from package ‘jsonlite’ in package ‘googleVis’ * DONE (RareVariantVis)