Back to Multiple platform build/check report for BioC 3.7 |
|
This page was generated on 2018-10-17 08:54:36 -0400 (Wed, 17 Oct 2018).
Package 1300/1561 | Hostname | OS / Arch | INSTALL | BUILD | CHECK | BUILD BIN | ||||||
RUVcorr 1.12.0 Saskia Freytag
| malbec2 | Linux (Ubuntu 16.04.1 LTS) / x86_64 | OK | OK | OK | |||||||
tokay2 | Windows Server 2012 R2 Standard / x64 | OK | OK | OK | OK | |||||||
merida2 | OS X 10.11.6 El Capitan / x86_64 | OK | OK | OK | [ OK ] |
Package: RUVcorr |
Version: 1.12.0 |
Command: rm -rf RUVcorr.buildbin-libdir && mkdir RUVcorr.buildbin-libdir && /Users/biocbuild/BBS/utils/build-universal.sh RUVcorr_1.12.0.tar.gz /Library/Frameworks/R.framework/Versions/Current/Resources/bin/R RUVcorr.buildbin-libdir |
StartedAt: 2018-10-17 02:05:20 -0400 (Wed, 17 Oct 2018) |
EndedAt: 2018-10-17 02:06:03 -0400 (Wed, 17 Oct 2018) |
EllapsedTime: 42.5 seconds |
RetCode: 0 |
Status: OK |
PackageFile: RUVcorr_1.12.0.tgz |
PackageFileSize: 659.6 KiB |
############################################################################## ############################################################################## ### ### Running command: ### ### rm -rf RUVcorr.buildbin-libdir && mkdir RUVcorr.buildbin-libdir && /Users/biocbuild/BBS/utils/build-universal.sh RUVcorr_1.12.0.tar.gz /Library/Frameworks/R.framework/Versions/Current/Resources/bin/R RUVcorr.buildbin-libdir ### ############################################################################## ############################################################################## >>>>>>> >>>>>>> INSTALLATION WITH 'R CMD INSTALL --preclean --no-multiarch --library=RUVcorr.buildbin-libdir RUVcorr_1.12.0.tar.gz' >>>>>>> * installing *source* package ‘RUVcorr’ ... ** R ** inst ** byte-compile and prepare package for lazy loading ** help *** installing help indices ** building package indices ** installing vignettes ** testing if installed package can be loaded * DONE (RUVcorr)