| Back to Multiple platform build/check report for BioC 3.7 | 
 | 
This page was generated on 2018-10-17 08:34:24 -0400 (Wed, 17 Oct 2018).
| Package 1288/1561 | Hostname | OS / Arch | INSTALL | BUILD | CHECK | BUILD BIN | ||||||
| RTCA 1.32.0 Jitao David Zhang 
 | malbec2 | Linux (Ubuntu 16.04.1 LTS) / x86_64 | OK | OK | OK |  | ||||||
| tokay2 | Windows Server 2012 R2 Standard / x64 | [ OK ] | OK | OK | OK |  | ||||||
| merida2 | OS X 10.11.6 El Capitan / x86_64 | OK | OK | OK | OK |  | 
| Package: RTCA | 
| Version: 1.32.0 | 
| Command: C:\cygwin\bin\curl.exe -O https://malbec2.bioconductor.org/BBS/3.7/bioc/src/contrib/RTCA_1.32.0.tar.gz && rm -rf RTCA.buildbin-libdir && mkdir RTCA.buildbin-libdir && C:\Users\biocbuild\bbs-3.7-bioc\R\bin\R.exe CMD INSTALL --merge-multiarch --build --library=RTCA.buildbin-libdir RTCA_1.32.0.tar.gz && C:\Users\biocbuild\bbs-3.7-bioc\R\bin\R.exe CMD INSTALL RTCA_1.32.0.zip && rm RTCA_1.32.0.tar.gz RTCA_1.32.0.zip | 
| StartedAt: 2018-10-16 18:44:27 -0400 (Tue, 16 Oct 2018) | 
| EndedAt: 2018-10-16 18:45:09 -0400 (Tue, 16 Oct 2018) | 
| EllapsedTime: 42.0 seconds | 
| RetCode: 0 | 
| Status: OK | 
##############################################################################
##############################################################################
###
### Running command:
###
###   C:\cygwin\bin\curl.exe -O https://malbec2.bioconductor.org/BBS/3.7/bioc/src/contrib/RTCA_1.32.0.tar.gz && rm -rf RTCA.buildbin-libdir && mkdir RTCA.buildbin-libdir && C:\Users\biocbuild\bbs-3.7-bioc\R\bin\R.exe CMD INSTALL --merge-multiarch --build --library=RTCA.buildbin-libdir RTCA_1.32.0.tar.gz && C:\Users\biocbuild\bbs-3.7-bioc\R\bin\R.exe CMD INSTALL RTCA_1.32.0.zip && rm RTCA_1.32.0.tar.gz RTCA_1.32.0.zip
###
##############################################################################
##############################################################################
  % Total    % Received % Xferd  Average Speed   Time    Time     Time  Current
                                 Dload  Upload   Total   Spent    Left  Speed
  0     0    0     0    0     0      0      0 --:--:-- --:--:-- --:--:--     0
100 57120  100 57120    0     0   997k      0 --:--:-- --:--:-- --:--:-- 1138k
install for i386
* installing *source* package 'RTCA' ...
** R
** inst
** byte-compile and prepare package for lazy loading
** help
*** installing help indices
  converting help for package 'RTCA'
    finding HTML links ... done
    RTCA-class                              html  
    finding level-2 HTML links ... done
    RTCAtimeline-class                      html  
    alphaNames                              html  
    combineRTCA                             html  
    controlView                             html  
    derivativeTransform                     html  
    factor2numeric                          html  
    interpolationTransform                  html  
    nearestTimeIndex                        html  
    parseRTCA                               html  
    plateView                               html  
    plotGridEffect                          html  
    ratioTransform                          html  
    rgrTransform                            html  
    sliceRTCA                               html  
    smoothTransform                         html  
    spectramaxImport                        html  
** building package indices
** installing vignettes
** testing if installed package can be loaded
In R CMD INSTALL
install for x64
* installing *source* package 'RTCA' ...
** testing if installed package can be loaded
* MD5 sums
packaged installation of 'RTCA' as RTCA_1.32.0.zip
* DONE (RTCA)
In R CMD INSTALL
In R CMD INSTALL
* installing to library 'C:/Users/biocbuild/bbs-3.7-bioc/R/library'
package 'RTCA' successfully unpacked and MD5 sums checked
In R CMD INSTALL