| Back to Multiple platform build/check report for BioC 3.7 |
|
This page was generated on 2018-10-17 08:54:26 -0400 (Wed, 17 Oct 2018).
| Package 1258/1561 | Hostname | OS / Arch | INSTALL | BUILD | CHECK | BUILD BIN | ||||||
| RNAprobR 1.12.0 Nikos Sidiropoulos
| malbec2 | Linux (Ubuntu 16.04.1 LTS) / x86_64 | OK | OK | OK | |||||||
| tokay2 | Windows Server 2012 R2 Standard / x64 | OK | OK | OK | OK | |||||||
| merida2 | OS X 10.11.6 El Capitan / x86_64 | OK | OK | OK | [ OK ] |
| Package: RNAprobR |
| Version: 1.12.0 |
| Command: rm -rf RNAprobR.buildbin-libdir && mkdir RNAprobR.buildbin-libdir && /Users/biocbuild/BBS/utils/build-universal.sh RNAprobR_1.12.0.tar.gz /Library/Frameworks/R.framework/Versions/Current/Resources/bin/R RNAprobR.buildbin-libdir |
| StartedAt: 2018-10-17 02:03:10 -0400 (Wed, 17 Oct 2018) |
| EndedAt: 2018-10-17 02:03:53 -0400 (Wed, 17 Oct 2018) |
| EllapsedTime: 42.9 seconds |
| RetCode: 0 |
| Status: OK |
| PackageFile: RNAprobR_1.12.0.tgz |
| PackageFileSize: 592.3 KiB |
############################################################################## ############################################################################## ### ### Running command: ### ### rm -rf RNAprobR.buildbin-libdir && mkdir RNAprobR.buildbin-libdir && /Users/biocbuild/BBS/utils/build-universal.sh RNAprobR_1.12.0.tar.gz /Library/Frameworks/R.framework/Versions/Current/Resources/bin/R RNAprobR.buildbin-libdir ### ############################################################################## ############################################################################## >>>>>>> >>>>>>> INSTALLATION WITH 'R CMD INSTALL --preclean --no-multiarch --library=RNAprobR.buildbin-libdir RNAprobR_1.12.0.tar.gz' >>>>>>> * installing *source* package ‘RNAprobR’ ... ** R ** inst ** byte-compile and prepare package for lazy loading ** help *** installing help indices ** building package indices ** installing vignettes ** testing if installed package can be loaded * DONE (RNAprobR)