| Back to Multiple platform build/check report for BioC 3.7 |
|
This page was generated on 2018-10-17 08:35:12 -0400 (Wed, 17 Oct 2018).
| Package 1256/1561 | Hostname | OS / Arch | INSTALL | BUILD | CHECK | BUILD BIN | ||||||
| RNAinteract 1.28.0 Bernd Fischer
| malbec2 | Linux (Ubuntu 16.04.1 LTS) / x86_64 | OK | OK | OK | |||||||
| tokay2 | Windows Server 2012 R2 Standard / x64 | [ OK ] | OK | OK | OK | |||||||
| merida2 | OS X 10.11.6 El Capitan / x86_64 | OK | OK | OK | OK |
| Package: RNAinteract |
| Version: 1.28.0 |
| Command: C:\cygwin\bin\curl.exe -O https://malbec2.bioconductor.org/BBS/3.7/bioc/src/contrib/RNAinteract_1.28.0.tar.gz && rm -rf RNAinteract.buildbin-libdir && mkdir RNAinteract.buildbin-libdir && C:\Users\biocbuild\bbs-3.7-bioc\R\bin\R.exe CMD INSTALL --merge-multiarch --build --library=RNAinteract.buildbin-libdir RNAinteract_1.28.0.tar.gz && C:\Users\biocbuild\bbs-3.7-bioc\R\bin\R.exe CMD INSTALL RNAinteract_1.28.0.zip && rm RNAinteract_1.28.0.tar.gz RNAinteract_1.28.0.zip |
| StartedAt: 2018-10-16 19:43:54 -0400 (Tue, 16 Oct 2018) |
| EndedAt: 2018-10-16 19:45:05 -0400 (Tue, 16 Oct 2018) |
| EllapsedTime: 70.8 seconds |
| RetCode: 0 |
| Status: OK |
##############################################################################
##############################################################################
###
### Running command:
###
### C:\cygwin\bin\curl.exe -O https://malbec2.bioconductor.org/BBS/3.7/bioc/src/contrib/RNAinteract_1.28.0.tar.gz && rm -rf RNAinteract.buildbin-libdir && mkdir RNAinteract.buildbin-libdir && C:\Users\biocbuild\bbs-3.7-bioc\R\bin\R.exe CMD INSTALL --merge-multiarch --build --library=RNAinteract.buildbin-libdir RNAinteract_1.28.0.tar.gz && C:\Users\biocbuild\bbs-3.7-bioc\R\bin\R.exe CMD INSTALL RNAinteract_1.28.0.zip && rm RNAinteract_1.28.0.tar.gz RNAinteract_1.28.0.zip
###
##############################################################################
##############################################################################
% Total % Received % Xferd Average Speed Time Time Time Current
Dload Upload Total Spent Left Speed
0 0 0 0 0 0 0 0 --:--:-- --:--:-- --:--:-- 0
100 164k 100 164k 0 0 3202k 0 --:--:-- --:--:-- --:--:-- 3660k
install for i386
* installing *source* package 'RNAinteract' ...
** R
** data
** inst
** byte-compile and prepare package for lazy loading
** help
*** installing help indices
converting help for package 'RNAinteract'
finding HTML links ... done
RNAinteract-class html
RNAinteract-package html
bindsamples html
computePI html
computePValues html
finding level-2 HTML links ... done
createCellHTSFromFiles html
createRNAinteract html
createRNAinteractFromFiles html
embedPCA html
estimateMainEffect html
getData html
getMain html
getReplicateData html
getSampleNames html
getScale html
grid.doublePerturbation html
grid.sgiHeatmap html
normalizeMainEffectQuery html
normalizeMainEffectTemplate html
normalizePlateEffect html
plotDoublePerturbation html
plotHeatmap html
reportAnnotation html
sgi html
sgisubset html
sgisubsetQueryDesign html
startReport html
summarizeSamples html
swaptree html
** building package indices
** installing vignettes
** testing if installed package can be loaded
In R CMD INSTALL
install for x64
* installing *source* package 'RNAinteract' ...
** testing if installed package can be loaded
* MD5 sums
packaged installation of 'RNAinteract' as RNAinteract_1.28.0.zip
* DONE (RNAinteract)
In R CMD INSTALL
In R CMD INSTALL
* installing to library 'C:/Users/biocbuild/bbs-3.7-bioc/R/library'
package 'RNAinteract' successfully unpacked and MD5 sums checked
In R CMD INSTALL