| Back to Multiple platform build/check report for BioC 3.7 |
|
This page was generated on 2018-10-17 08:45:48 -0400 (Wed, 17 Oct 2018).
| Package 1255/1561 | Hostname | OS / Arch | INSTALL | BUILD | CHECK | BUILD BIN | ||||||
| RNAdecay 1.0.2 Reed Sorenson
| malbec2 | Linux (Ubuntu 16.04.1 LTS) / x86_64 | OK | OK | OK | |||||||
| tokay2 | Windows Server 2012 R2 Standard / x64 | OK | OK | OK | [ OK ] | |||||||
| merida2 | OS X 10.11.6 El Capitan / x86_64 | OK | OK | OK | OK |
| Package: RNAdecay |
| Version: 1.0.2 |
| Command: rm -rf RNAdecay.buildbin-libdir && mkdir RNAdecay.buildbin-libdir && C:\Users\biocbuild\bbs-3.7-bioc\R\bin\R.exe CMD INSTALL --merge-multiarch --build --library=RNAdecay.buildbin-libdir RNAdecay_1.0.2.tar.gz |
| StartedAt: 2018-10-17 06:54:35 -0400 (Wed, 17 Oct 2018) |
| EndedAt: 2018-10-17 07:02:28 -0400 (Wed, 17 Oct 2018) |
| EllapsedTime: 472.8 seconds |
| RetCode: 0 |
| Status: OK |
| PackageFile: RNAdecay_1.0.2.zip |
| PackageFileSize: 9.777 MiB |
##############################################################################
##############################################################################
###
### Running command:
###
### rm -rf RNAdecay.buildbin-libdir && mkdir RNAdecay.buildbin-libdir && C:\Users\biocbuild\bbs-3.7-bioc\R\bin\R.exe CMD INSTALL --merge-multiarch --build --library=RNAdecay.buildbin-libdir RNAdecay_1.0.2.tar.gz
###
##############################################################################
##############################################################################
install for i386
* installing *source* package 'RNAdecay' ...
** libs
running 'src/Makefile.win' ...
C:/Users/BIOCBU˜1/BBS-3˜1.7-B/R/bin/Rscript --vanilla -e "TMB::compile('general_dExp_1sse.cpp',safebounds=FALSE,safeunload=FALSE)"
C:/Rtools/mingw_32/bin/g++ -I"C:/Users/BIOCBU˜1/BBS-3˜1.7-B/R/include" -DNDEBUG -IC:/Users/BIOCBU˜1/BBS-3˜1.7-B/R/library/TMB/include -IC:/Users/BIOCBU˜1/BBS-3˜1.7-B/R/library/RCPPEI˜1/include -DTMB_LIB_INIT=R_init_general_dExp_1sse -I"C:/extsoft/include" -O2 -Wall -mtune=generic -c general_dExp_1sse.cpp -o general_dExp_1sse.o
C:/Rtools/mingw_32/bin/g++ -shared -s -static-libgcc -o general_dExp_1sse.dll tmp.def general_dExp_1sse.o -LC:/extsoft/lib/i386 -LC:/extsoft/lib -LC:/Users/BIOCBU˜1/BBS-3˜1.7-B/R/bin/i386 -lR
[1] 0
C:/Users/BIOCBU˜1/BBS-3˜1.7-B/R/bin/Rscript --vanilla -e "TMB::compile('general_Exp_1sse.cpp',safebounds=FALSE,safeunload=FALSE)"
C:/Rtools/mingw_32/bin/g++ -I"C:/Users/BIOCBU˜1/BBS-3˜1.7-B/R/include" -DNDEBUG -IC:/Users/BIOCBU˜1/BBS-3˜1.7-B/R/library/TMB/include -IC:/Users/BIOCBU˜1/BBS-3˜1.7-B/R/library/RCPPEI˜1/include -DTMB_LIB_INIT=R_init_general_Exp_1sse -I"C:/extsoft/include" -O2 -Wall -mtune=generic -c general_Exp_1sse.cpp -o general_Exp_1sse.o
C:/Rtools/mingw_32/bin/g++ -shared -s -static-libgcc -o general_Exp_1sse.dll tmp.def general_Exp_1sse.o -LC:/extsoft/lib/i386 -LC:/extsoft/lib -LC:/Users/BIOCBU˜1/BBS-3˜1.7-B/R/bin/i386 -lR
[1] 0
C:/Users/BIOCBU˜1/BBS-3˜1.7-B/R/bin/Rscript --vanilla -e "TMB::compile('general_dExp_2sse.cpp',safebounds=FALSE,safeunload=FALSE)"
C:/Rtools/mingw_32/bin/g++ -I"C:/Users/BIOCBU˜1/BBS-3˜1.7-B/R/include" -DNDEBUG -IC:/Users/BIOCBU˜1/BBS-3˜1.7-B/R/library/TMB/include -IC:/Users/BIOCBU˜1/BBS-3˜1.7-B/R/library/RCPPEI˜1/include -DTMB_LIB_INIT=R_init_general_dExp_2sse -I"C:/extsoft/include" -O2 -Wall -mtune=generic -c general_dExp_2sse.cpp -o general_dExp_2sse.o
C:/Rtools/mingw_32/bin/g++ -shared -s -static-libgcc -o general_dExp_2sse.dll tmp.def general_dExp_2sse.o -LC:/extsoft/lib/i386 -LC:/extsoft/lib -LC:/Users/BIOCBU˜1/BBS-3˜1.7-B/R/bin/i386 -lR
[1] 0
C:/Users/BIOCBU˜1/BBS-3˜1.7-B/R/bin/Rscript --vanilla -e "TMB::compile('general_Exp_2sse.cpp',safebounds=FALSE,safeunload=FALSE)"
C:/Rtools/mingw_32/bin/g++ -I"C:/Users/BIOCBU˜1/BBS-3˜1.7-B/R/include" -DNDEBUG -IC:/Users/BIOCBU˜1/BBS-3˜1.7-B/R/library/TMB/include -IC:/Users/BIOCBU˜1/BBS-3˜1.7-B/R/library/RCPPEI˜1/include -DTMB_LIB_INIT=R_init_general_Exp_2sse -I"C:/extsoft/include" -O2 -Wall -mtune=generic -c general_Exp_2sse.cpp -o general_Exp_2sse.o
C:/Rtools/mingw_32/bin/g++ -shared -s -static-libgcc -o general_Exp_2sse.dll tmp.def general_Exp_2sse.o -LC:/extsoft/lib/i386 -LC:/extsoft/lib -LC:/Users/BIOCBU˜1/BBS-3˜1.7-B/R/bin/i386 -lR
[1] 0
C:/Users/BIOCBU˜1/BBS-3˜1.7-B/R/bin/Rscript --vanilla -e "TMB::compile('general_dExp_3sse.cpp',safebounds=FALSE,safeunload=FALSE)"
C:/Rtools/mingw_32/bin/g++ -I"C:/Users/BIOCBU˜1/BBS-3˜1.7-B/R/include" -DNDEBUG -IC:/Users/BIOCBU˜1/BBS-3˜1.7-B/R/library/TMB/include -IC:/Users/BIOCBU˜1/BBS-3˜1.7-B/R/library/RCPPEI˜1/include -DTMB_LIB_INIT=R_init_general_dExp_3sse -I"C:/extsoft/include" -O2 -Wall -mtune=generic -c general_dExp_3sse.cpp -o general_dExp_3sse.o
C:/Rtools/mingw_32/bin/g++ -shared -s -static-libgcc -o general_dExp_3sse.dll tmp.def general_dExp_3sse.o -LC:/extsoft/lib/i386 -LC:/extsoft/lib -LC:/Users/BIOCBU˜1/BBS-3˜1.7-B/R/bin/i386 -lR
[1] 0
C:/Users/BIOCBU˜1/BBS-3˜1.7-B/R/bin/Rscript --vanilla -e "TMB::compile('general_Exp_3sse.cpp',safebounds=FALSE,safeunload=FALSE)"
C:/Rtools/mingw_32/bin/g++ -I"C:/Users/BIOCBU˜1/BBS-3˜1.7-B/R/include" -DNDEBUG -IC:/Users/BIOCBU˜1/BBS-3˜1.7-B/R/library/TMB/include -IC:/Users/BIOCBU˜1/BBS-3˜1.7-B/R/library/RCPPEI˜1/include -DTMB_LIB_INIT=R_init_general_Exp_3sse -I"C:/extsoft/include" -O2 -Wall -mtune=generic -c general_Exp_3sse.cpp -o general_Exp_3sse.o
C:/Rtools/mingw_32/bin/g++ -shared -s -static-libgcc -o general_Exp_3sse.dll tmp.def general_Exp_3sse.o -LC:/extsoft/lib/i386 -LC:/extsoft/lib -LC:/Users/BIOCBU˜1/BBS-3˜1.7-B/R/bin/i386 -lR
[1] 0
C:/Users/BIOCBU˜1/BBS-3˜1.7-B/R/bin/Rscript --vanilla -e "TMB::compile('general_dExp_4sse.cpp',safebounds=FALSE,safeunload=FALSE)"
C:/Rtools/mingw_32/bin/g++ -I"C:/Users/BIOCBU˜1/BBS-3˜1.7-B/R/include" -DNDEBUG -IC:/Users/BIOCBU˜1/BBS-3˜1.7-B/R/library/TMB/include -IC:/Users/BIOCBU˜1/BBS-3˜1.7-B/R/library/RCPPEI˜1/include -DTMB_LIB_INIT=R_init_general_dExp_4sse -I"C:/extsoft/include" -O2 -Wall -mtune=generic -c general_dExp_4sse.cpp -o general_dExp_4sse.o
C:/Rtools/mingw_32/bin/g++ -shared -s -static-libgcc -o general_dExp_4sse.dll tmp.def general_dExp_4sse.o -LC:/extsoft/lib/i386 -LC:/extsoft/lib -LC:/Users/BIOCBU˜1/BBS-3˜1.7-B/R/bin/i386 -lR
[1] 0
C:/Users/BIOCBU˜1/BBS-3˜1.7-B/R/bin/Rscript --vanilla -e "TMB::compile('general_Exp_4sse.cpp',safebounds=FALSE,safeunload=FALSE)"
C:/Rtools/mingw_32/bin/g++ -I"C:/Users/BIOCBU˜1/BBS-3˜1.7-B/R/include" -DNDEBUG -IC:/Users/BIOCBU˜1/BBS-3˜1.7-B/R/library/TMB/include -IC:/Users/BIOCBU˜1/BBS-3˜1.7-B/R/library/RCPPEI˜1/include -DTMB_LIB_INIT=R_init_general_Exp_4sse -I"C:/extsoft/include" -O2 -Wall -mtune=generic -c general_Exp_4sse.cpp -o general_Exp_4sse.o
C:/Rtools/mingw_32/bin/g++ -shared -s -static-libgcc -o general_Exp_4sse.dll tmp.def general_Exp_4sse.o -LC:/extsoft/lib/i386 -LC:/extsoft/lib -LC:/Users/BIOCBU˜1/BBS-3˜1.7-B/R/bin/i386 -lR
[1] 0
installing to C:/Users/biocbuild/bbs-3.7-bioc/meat/RNAdecay.buildbin-libdir/RNAdecay/libs/i386
** R
** data
*** moving datasets to lazyload DB
** inst
** byte-compile and prepare package for lazy loading
** help
*** installing help indices
converting help for package 'RNAdecay'
finding HTML links ... done
RPMs html
a_high html
aic html
cols html
comb_cv html
const_decay html
constraint_fun_list_maker html
decay_data html
decay_plot html
fit_var html
group_map html
groupings html
log_lik html
mod_optimization html
models html
n_par html
plain_theme html
results html
sse_null_decaying_decay html
** building package indices
** installing vignettes
** testing if installed package can be loaded
In R CMD INSTALL
install for x64
* installing *source* package 'RNAdecay' ...
** libs
running 'src/Makefile.win' ...
C:/Users/BIOCBU˜1/BBS-3˜1.7-B/R/bin/Rscript --vanilla -e "TMB::compile('general_dExp_1sse.cpp',safebounds=FALSE,safeunload=FALSE)"
C:/Rtools/mingw_64/bin/g++ -I"C:/Users/BIOCBU˜1/BBS-3˜1.7-B/R/include" -DNDEBUG -IC:/Users/BIOCBU˜1/BBS-3˜1.7-B/R/library/TMB/include -IC:/Users/BIOCBU˜1/BBS-3˜1.7-B/R/library/RCPPEI˜1/include -DTMB_LIB_INIT=R_init_general_dExp_1sse -I"C:/extsoft/include" -O2 -Wall -mtune=generic -c general_dExp_1sse.cpp -o general_dExp_1sse.o
C:/Rtools/mingw_64/bin/g++ -shared -s -static-libgcc -o general_dExp_1sse.dll tmp.def general_dExp_1sse.o -LC:/extsoft/lib/x64 -LC:/extsoft/lib -LC:/Users/BIOCBU˜1/BBS-3˜1.7-B/R/bin/x64 -lR
[1] 0
C:/Users/BIOCBU˜1/BBS-3˜1.7-B/R/bin/Rscript --vanilla -e "TMB::compile('general_Exp_1sse.cpp',safebounds=FALSE,safeunload=FALSE)"
C:/Rtools/mingw_64/bin/g++ -I"C:/Users/BIOCBU˜1/BBS-3˜1.7-B/R/include" -DNDEBUG -IC:/Users/BIOCBU˜1/BBS-3˜1.7-B/R/library/TMB/include -IC:/Users/BIOCBU˜1/BBS-3˜1.7-B/R/library/RCPPEI˜1/include -DTMB_LIB_INIT=R_init_general_Exp_1sse -I"C:/extsoft/include" -O2 -Wall -mtune=generic -c general_Exp_1sse.cpp -o general_Exp_1sse.o
C:/Rtools/mingw_64/bin/g++ -shared -s -static-libgcc -o general_Exp_1sse.dll tmp.def general_Exp_1sse.o -LC:/extsoft/lib/x64 -LC:/extsoft/lib -LC:/Users/BIOCBU˜1/BBS-3˜1.7-B/R/bin/x64 -lR
[1] 0
C:/Users/BIOCBU˜1/BBS-3˜1.7-B/R/bin/Rscript --vanilla -e "TMB::compile('general_dExp_2sse.cpp',safebounds=FALSE,safeunload=FALSE)"
C:/Rtools/mingw_64/bin/g++ -I"C:/Users/BIOCBU˜1/BBS-3˜1.7-B/R/include" -DNDEBUG -IC:/Users/BIOCBU˜1/BBS-3˜1.7-B/R/library/TMB/include -IC:/Users/BIOCBU˜1/BBS-3˜1.7-B/R/library/RCPPEI˜1/include -DTMB_LIB_INIT=R_init_general_dExp_2sse -I"C:/extsoft/include" -O2 -Wall -mtune=generic -c general_dExp_2sse.cpp -o general_dExp_2sse.o
C:/Rtools/mingw_64/bin/g++ -shared -s -static-libgcc -o general_dExp_2sse.dll tmp.def general_dExp_2sse.o -LC:/extsoft/lib/x64 -LC:/extsoft/lib -LC:/Users/BIOCBU˜1/BBS-3˜1.7-B/R/bin/x64 -lR
[1] 0
C:/Users/BIOCBU˜1/BBS-3˜1.7-B/R/bin/Rscript --vanilla -e "TMB::compile('general_Exp_2sse.cpp',safebounds=FALSE,safeunload=FALSE)"
C:/Rtools/mingw_64/bin/g++ -I"C:/Users/BIOCBU˜1/BBS-3˜1.7-B/R/include" -DNDEBUG -IC:/Users/BIOCBU˜1/BBS-3˜1.7-B/R/library/TMB/include -IC:/Users/BIOCBU˜1/BBS-3˜1.7-B/R/library/RCPPEI˜1/include -DTMB_LIB_INIT=R_init_general_Exp_2sse -I"C:/extsoft/include" -O2 -Wall -mtune=generic -c general_Exp_2sse.cpp -o general_Exp_2sse.o
C:/Rtools/mingw_64/bin/g++ -shared -s -static-libgcc -o general_Exp_2sse.dll tmp.def general_Exp_2sse.o -LC:/extsoft/lib/x64 -LC:/extsoft/lib -LC:/Users/BIOCBU˜1/BBS-3˜1.7-B/R/bin/x64 -lR
[1] 0
C:/Users/BIOCBU˜1/BBS-3˜1.7-B/R/bin/Rscript --vanilla -e "TMB::compile('general_dExp_3sse.cpp',safebounds=FALSE,safeunload=FALSE)"
C:/Rtools/mingw_64/bin/g++ -I"C:/Users/BIOCBU˜1/BBS-3˜1.7-B/R/include" -DNDEBUG -IC:/Users/BIOCBU˜1/BBS-3˜1.7-B/R/library/TMB/include -IC:/Users/BIOCBU˜1/BBS-3˜1.7-B/R/library/RCPPEI˜1/include -DTMB_LIB_INIT=R_init_general_dExp_3sse -I"C:/extsoft/include" -O2 -Wall -mtune=generic -c general_dExp_3sse.cpp -o general_dExp_3sse.o
C:/Rtools/mingw_64/bin/g++ -shared -s -static-libgcc -o general_dExp_3sse.dll tmp.def general_dExp_3sse.o -LC:/extsoft/lib/x64 -LC:/extsoft/lib -LC:/Users/BIOCBU˜1/BBS-3˜1.7-B/R/bin/x64 -lR
[1] 0
C:/Users/BIOCBU˜1/BBS-3˜1.7-B/R/bin/Rscript --vanilla -e "TMB::compile('general_Exp_3sse.cpp',safebounds=FALSE,safeunload=FALSE)"
C:/Rtools/mingw_64/bin/g++ -I"C:/Users/BIOCBU˜1/BBS-3˜1.7-B/R/include" -DNDEBUG -IC:/Users/BIOCBU˜1/BBS-3˜1.7-B/R/library/TMB/include -IC:/Users/BIOCBU˜1/BBS-3˜1.7-B/R/library/RCPPEI˜1/include -DTMB_LIB_INIT=R_init_general_Exp_3sse -I"C:/extsoft/include" -O2 -Wall -mtune=generic -c general_Exp_3sse.cpp -o general_Exp_3sse.o
C:/Rtools/mingw_64/bin/g++ -shared -s -static-libgcc -o general_Exp_3sse.dll tmp.def general_Exp_3sse.o -LC:/extsoft/lib/x64 -LC:/extsoft/lib -LC:/Users/BIOCBU˜1/BBS-3˜1.7-B/R/bin/x64 -lR
[1] 0
C:/Users/BIOCBU˜1/BBS-3˜1.7-B/R/bin/Rscript --vanilla -e "TMB::compile('general_dExp_4sse.cpp',safebounds=FALSE,safeunload=FALSE)"
C:/Rtools/mingw_64/bin/g++ -I"C:/Users/BIOCBU˜1/BBS-3˜1.7-B/R/include" -DNDEBUG -IC:/Users/BIOCBU˜1/BBS-3˜1.7-B/R/library/TMB/include -IC:/Users/BIOCBU˜1/BBS-3˜1.7-B/R/library/RCPPEI˜1/include -DTMB_LIB_INIT=R_init_general_dExp_4sse -I"C:/extsoft/include" -O2 -Wall -mtune=generic -c general_dExp_4sse.cpp -o general_dExp_4sse.o
C:/Rtools/mingw_64/bin/g++ -shared -s -static-libgcc -o general_dExp_4sse.dll tmp.def general_dExp_4sse.o -LC:/extsoft/lib/x64 -LC:/extsoft/lib -LC:/Users/BIOCBU˜1/BBS-3˜1.7-B/R/bin/x64 -lR
[1] 0
C:/Users/BIOCBU˜1/BBS-3˜1.7-B/R/bin/Rscript --vanilla -e "TMB::compile('general_Exp_4sse.cpp',safebounds=FALSE,safeunload=FALSE)"
C:/Rtools/mingw_64/bin/g++ -I"C:/Users/BIOCBU˜1/BBS-3˜1.7-B/R/include" -DNDEBUG -IC:/Users/BIOCBU˜1/BBS-3˜1.7-B/R/library/TMB/include -IC:/Users/BIOCBU˜1/BBS-3˜1.7-B/R/library/RCPPEI˜1/include -DTMB_LIB_INIT=R_init_general_Exp_4sse -I"C:/extsoft/include" -O2 -Wall -mtune=generic -c general_Exp_4sse.cpp -o general_Exp_4sse.o
C:/Rtools/mingw_64/bin/g++ -shared -s -static-libgcc -o general_Exp_4sse.dll tmp.def general_Exp_4sse.o -LC:/extsoft/lib/x64 -LC:/extsoft/lib -LC:/Users/BIOCBU˜1/BBS-3˜1.7-B/R/bin/x64 -lR
[1] 0
installing to C:/Users/biocbuild/bbs-3.7-bioc/meat/RNAdecay.buildbin-libdir/RNAdecay/libs/x64
** testing if installed package can be loaded
* MD5 sums
packaged installation of 'RNAdecay' as RNAdecay_1.0.2.zip
* DONE (RNAdecay)
In R CMD INSTALL
In R CMD INSTALL