| Back to Multiple platform build/check report for BioC 3.7 |
|
This page was generated on 2018-10-17 08:43:47 -0400 (Wed, 17 Oct 2018).
| Package 1248/1561 | Hostname | OS / Arch | INSTALL | BUILD | CHECK | BUILD BIN | ||||||
| RIVER 1.4.0 Yungil Kim
| malbec2 | Linux (Ubuntu 16.04.1 LTS) / x86_64 | OK | OK | OK | |||||||
| tokay2 | Windows Server 2012 R2 Standard / x64 | OK | OK | WARNINGS | [ OK ] | |||||||
| merida2 | OS X 10.11.6 El Capitan / x86_64 | OK | OK | OK | OK |
| Package: RIVER |
| Version: 1.4.0 |
| Command: rm -rf RIVER.buildbin-libdir && mkdir RIVER.buildbin-libdir && C:\Users\biocbuild\bbs-3.7-bioc\R\bin\R.exe CMD INSTALL --merge-multiarch --build --library=RIVER.buildbin-libdir RIVER_1.4.0.tar.gz |
| StartedAt: 2018-10-17 06:54:25 -0400 (Wed, 17 Oct 2018) |
| EndedAt: 2018-10-17 06:54:35 -0400 (Wed, 17 Oct 2018) |
| EllapsedTime: 10.4 seconds |
| RetCode: 0 |
| Status: OK |
| PackageFile: RIVER_1.4.0.zip |
| PackageFileSize: 1.302 MiB |
##############################################################################
##############################################################################
###
### Running command:
###
### rm -rf RIVER.buildbin-libdir && mkdir RIVER.buildbin-libdir && C:\Users\biocbuild\bbs-3.7-bioc\R\bin\R.exe CMD INSTALL --merge-multiarch --build --library=RIVER.buildbin-libdir RIVER_1.4.0.tar.gz
###
##############################################################################
##############################################################################
install for i386
* installing *source* package 'RIVER' ...
** R
** inst
** byte-compile and prepare package for lazy loading
** help
*** installing help indices
converting help for package 'RIVER'
finding HTML links ... done
RIVER html
appRIVER html
evaRIVER html
getData html
Rd warning: C:/Users/biocbuild/bbs-3.7-bioc/tmpdir/RtmpCGIGcb/R.INSTALL1da420e67f6b/RIVER/man/getData.Rd:38: file link 'ExpressionSet' in package 'Biobase' does not exist and so has been treated as a topic
getFuncRvFeat html
getFuncRvPosteriors html
integratedEM html
mleBeta html
mleTheta html
plotPosteriors html
testPosteriors html
** building package indices
** installing vignettes
** testing if installed package can be loaded
In R CMD INSTALL
install for x64
* installing *source* package 'RIVER' ...
** testing if installed package can be loaded
* MD5 sums
packaged installation of 'RIVER' as RIVER_1.4.0.zip
* DONE (RIVER)
In R CMD INSTALL
In R CMD INSTALL