| Back to Multiple platform build/check report for BioC 3.7 | 
 | 
This page was generated on 2018-10-17 08:58:14 -0400 (Wed, 17 Oct 2018).
| Package 1247/1561 | Hostname | OS / Arch | INSTALL | BUILD | CHECK | BUILD BIN | ||||||
| RITAN 1.4.2 Michael Zimmermann 
 | malbec2 | Linux (Ubuntu 16.04.1 LTS) / x86_64 | OK | OK | WARNINGS |  | ||||||
| tokay2 | Windows Server 2012 R2 Standard / x64 | OK | OK | WARNINGS | OK |  | ||||||
| merida2 | OS X 10.11.6 El Capitan / x86_64 | OK | OK | WARNINGS | [ OK ] |  | 
| Package: RITAN | 
| Version: 1.4.2 | 
| Command: rm -rf RITAN.buildbin-libdir && mkdir RITAN.buildbin-libdir && /Users/biocbuild/BBS/utils/build-universal.sh RITAN_1.4.2.tar.gz /Library/Frameworks/R.framework/Versions/Current/Resources/bin/R RITAN.buildbin-libdir | 
| StartedAt: 2018-10-17 02:02:29 -0400 (Wed, 17 Oct 2018) | 
| EndedAt: 2018-10-17 02:03:26 -0400 (Wed, 17 Oct 2018) | 
| EllapsedTime: 57.2 seconds | 
| RetCode: 0 | 
| Status: OK | 
| PackageFile: RITAN_1.4.2.tgz | 
| PackageFileSize: 966 KiB | 
############################################################################## ############################################################################## ### ### Running command: ### ### rm -rf RITAN.buildbin-libdir && mkdir RITAN.buildbin-libdir && /Users/biocbuild/BBS/utils/build-universal.sh RITAN_1.4.2.tar.gz /Library/Frameworks/R.framework/Versions/Current/Resources/bin/R RITAN.buildbin-libdir ### ############################################################################## ############################################################################## >>>>>>> >>>>>>> INSTALLATION WITH 'R CMD INSTALL --preclean --no-multiarch --library=RITAN.buildbin-libdir RITAN_1.4.2.tar.gz' >>>>>>> * installing *source* package ‘RITAN’ ... ** R ** data *** moving datasets to lazyload DB ** inst ** byte-compile and prepare package for lazy loading ** help *** installing help indices ** building package indices ** installing vignettes ** testing if installed package can be loaded * DONE (RITAN)