Back to Multiple platform build/check report for BioC 3.7 |
|
This page was generated on 2018-10-17 08:55:55 -0400 (Wed, 17 Oct 2018).
Package 1231/1561 | Hostname | OS / Arch | INSTALL | BUILD | CHECK | BUILD BIN | ||||||
RGraph2js 1.8.0 Stephane Cano
| malbec2 | Linux (Ubuntu 16.04.1 LTS) / x86_64 | OK | OK | OK | |||||||
tokay2 | Windows Server 2012 R2 Standard / x64 | OK | OK | OK | OK | |||||||
merida2 | OS X 10.11.6 El Capitan / x86_64 | OK | OK | OK | [ OK ] |
Package: RGraph2js |
Version: 1.8.0 |
Command: rm -rf RGraph2js.buildbin-libdir && mkdir RGraph2js.buildbin-libdir && /Users/biocbuild/BBS/utils/build-universal.sh RGraph2js_1.8.0.tar.gz /Library/Frameworks/R.framework/Versions/Current/Resources/bin/R RGraph2js.buildbin-libdir |
StartedAt: 2018-10-17 02:01:29 -0400 (Wed, 17 Oct 2018) |
EndedAt: 2018-10-17 02:02:26 -0400 (Wed, 17 Oct 2018) |
EllapsedTime: 56.3 seconds |
RetCode: 0 |
Status: OK |
PackageFile: RGraph2js_1.8.0.tgz |
PackageFileSize: 1.487 MiB |
############################################################################## ############################################################################## ### ### Running command: ### ### rm -rf RGraph2js.buildbin-libdir && mkdir RGraph2js.buildbin-libdir && /Users/biocbuild/BBS/utils/build-universal.sh RGraph2js_1.8.0.tar.gz /Library/Frameworks/R.framework/Versions/Current/Resources/bin/R RGraph2js.buildbin-libdir ### ############################################################################## ############################################################################## >>>>>>> >>>>>>> INSTALLATION WITH 'R CMD INSTALL --preclean --no-multiarch --library=RGraph2js.buildbin-libdir RGraph2js_1.8.0.tar.gz' >>>>>>> * installing *source* package ‘RGraph2js’ ... ** R ** inst ** byte-compile and prepare package for lazy loading ** help *** installing help indices ** building package indices ** installing vignettes ** testing if installed package can be loaded * DONE (RGraph2js)