| Back to Multiple platform build/check report for BioC 3.7 |
|
This page was generated on 2018-10-17 08:50:36 -0400 (Wed, 17 Oct 2018).
| Package 1228/1561 | Hostname | OS / Arch | INSTALL | BUILD | CHECK | BUILD BIN | ||||||
| RGalaxy 1.24.0 Bioconductor Package Maintainer
| malbec2 | Linux (Ubuntu 16.04.1 LTS) / x86_64 | OK | OK | OK | |||||||
| tokay2 | Windows Server 2012 R2 Standard / x64 | OK | OK | OK | OK | |||||||
| merida2 | OS X 10.11.6 El Capitan / x86_64 | OK | OK | OK | [ OK ] |
| Package: RGalaxy |
| Version: 1.24.0 |
| Command: rm -rf RGalaxy.buildbin-libdir && mkdir RGalaxy.buildbin-libdir && /Users/biocbuild/BBS/utils/build-universal.sh RGalaxy_1.24.0.tar.gz /Library/Frameworks/R.framework/Versions/Current/Resources/bin/R RGalaxy.buildbin-libdir |
| StartedAt: 2018-10-17 02:01:18 -0400 (Wed, 17 Oct 2018) |
| EndedAt: 2018-10-17 02:02:20 -0400 (Wed, 17 Oct 2018) |
| EllapsedTime: 61.4 seconds |
| RetCode: 0 |
| Status: OK |
| PackageFile: RGalaxy_1.24.0.tgz |
| PackageFileSize: 380.6 KiB |
############################################################################## ############################################################################## ### ### Running command: ### ### rm -rf RGalaxy.buildbin-libdir && mkdir RGalaxy.buildbin-libdir && /Users/biocbuild/BBS/utils/build-universal.sh RGalaxy_1.24.0.tar.gz /Library/Frameworks/R.framework/Versions/Current/Resources/bin/R RGalaxy.buildbin-libdir ### ############################################################################## ############################################################################## >>>>>>> >>>>>>> INSTALLATION WITH 'R CMD INSTALL --preclean --no-multiarch --library=RGalaxy.buildbin-libdir RGalaxy_1.24.0.tar.gz' >>>>>>> * installing *source* package ‘RGalaxy’ ... ** R ** inst ** byte-compile and prepare package for lazy loading ** help *** installing help indices ** building package indices ** installing vignettes ** testing if installed package can be loaded * DONE (RGalaxy)