| Back to Multiple platform build/check report for BioC 3.7 |
|
This page was generated on 2018-10-17 08:54:41 -0400 (Wed, 17 Oct 2018).
| Package 1202/1561 | Hostname | OS / Arch | INSTALL | BUILD | CHECK | BUILD BIN | ||||||
| RCyjs 2.2.2 Paul Shannon
| malbec2 | Linux (Ubuntu 16.04.1 LTS) / x86_64 | OK | OK | OK | |||||||
| tokay2 | Windows Server 2012 R2 Standard / x64 | OK | OK | OK | OK | |||||||
| merida2 | OS X 10.11.6 El Capitan / x86_64 | OK | OK | OK | [ OK ] |
| Package: RCyjs |
| Version: 2.2.2 |
| Command: rm -rf RCyjs.buildbin-libdir && mkdir RCyjs.buildbin-libdir && /Users/biocbuild/BBS/utils/build-universal.sh RCyjs_2.2.2.tar.gz /Library/Frameworks/R.framework/Versions/Current/Resources/bin/R RCyjs.buildbin-libdir |
| StartedAt: 2018-10-17 01:58:27 -0400 (Wed, 17 Oct 2018) |
| EndedAt: 2018-10-17 02:00:24 -0400 (Wed, 17 Oct 2018) |
| EllapsedTime: 116.7 seconds |
| RetCode: 0 |
| Status: OK |
| PackageFile: RCyjs_2.2.2.tgz |
| PackageFileSize: 1.419 MiB |
############################################################################## ############################################################################## ### ### Running command: ### ### rm -rf RCyjs.buildbin-libdir && mkdir RCyjs.buildbin-libdir && /Users/biocbuild/BBS/utils/build-universal.sh RCyjs_2.2.2.tar.gz /Library/Frameworks/R.framework/Versions/Current/Resources/bin/R RCyjs.buildbin-libdir ### ############################################################################## ############################################################################## >>>>>>> >>>>>>> INSTALLATION WITH 'R CMD INSTALL --preclean --no-multiarch --library=RCyjs.buildbin-libdir RCyjs_2.2.2.tar.gz' >>>>>>> * installing *source* package ‘RCyjs’ ... ** R ** inst ** byte-compile and prepare package for lazy loading Creating a new generic function for ‘layout’ in package ‘RCyjs’ ** help *** installing help indices ** building package indices ** installing vignettes ** testing if installed package can be loaded * DONE (RCyjs)