| Back to Multiple platform build/check report for BioC 3.7 |
|
This page was generated on 2018-10-17 08:41:21 -0400 (Wed, 17 Oct 2018).
| Package 1173/1561 | Hostname | OS / Arch | INSTALL | BUILD | CHECK | BUILD BIN | ||||||
| R4RNA 1.8.0 Daniel Lai
| malbec2 | Linux (Ubuntu 16.04.1 LTS) / x86_64 | OK | OK | OK | |||||||
| tokay2 | Windows Server 2012 R2 Standard / x64 | OK | OK | OK | [ OK ] | |||||||
| merida2 | OS X 10.11.6 El Capitan / x86_64 | OK | OK | OK | OK |
| Package: R4RNA |
| Version: 1.8.0 |
| Command: rm -rf R4RNA.buildbin-libdir && mkdir R4RNA.buildbin-libdir && C:\Users\biocbuild\bbs-3.7-bioc\R\bin\R.exe CMD INSTALL --merge-multiarch --build --library=R4RNA.buildbin-libdir R4RNA_1.8.0.tar.gz |
| StartedAt: 2018-10-17 06:50:34 -0400 (Wed, 17 Oct 2018) |
| EndedAt: 2018-10-17 06:50:47 -0400 (Wed, 17 Oct 2018) |
| EllapsedTime: 12.1 seconds |
| RetCode: 0 |
| Status: OK |
| PackageFile: R4RNA_1.8.0.zip |
| PackageFileSize: 1007 KiB |
##############################################################################
##############################################################################
###
### Running command:
###
### rm -rf R4RNA.buildbin-libdir && mkdir R4RNA.buildbin-libdir && C:\Users\biocbuild\bbs-3.7-bioc\R\bin\R.exe CMD INSTALL --merge-multiarch --build --library=R4RNA.buildbin-libdir R4RNA_1.8.0.tar.gz
###
##############################################################################
##############################################################################
install for i386
* installing *source* package 'R4RNA' ...
** R
** data
** inst
** byte-compile and prepare package for lazy loading
** help
*** installing help indices
converting help for package 'R4RNA'
finding HTML links ... done
R4RNA-package html
alignmentStatistics html
as.helix html
basepairFrequency html
blankPlot html
colourHelices html
expandCollapseHelix html
helix html
logicalHelix html
logseq html
plotCovariance html
plotHelix html
readStructure html
structureMismatchScore html
unknottedGroups html
viennaToHelix html
writeHelix html
** building package indices
** installing vignettes
** testing if installed package can be loaded
In R CMD INSTALL
install for x64
* installing *source* package 'R4RNA' ...
** testing if installed package can be loaded
* MD5 sums
packaged installation of 'R4RNA' as R4RNA_1.8.0.zip
* DONE (R4RNA)
In R CMD INSTALL
In R CMD INSTALL