| Back to Multiple platform build/check report for BioC 3.7 |
|
This page was generated on 2018-10-17 08:54:01 -0400 (Wed, 17 Oct 2018).
| Package 1164/1561 | Hostname | OS / Arch | INSTALL | BUILD | CHECK | BUILD BIN | ||||||
| QuartPAC 1.12.1 Gregory Ryslik
| malbec2 | Linux (Ubuntu 16.04.1 LTS) / x86_64 | OK | OK | OK | |||||||
| tokay2 | Windows Server 2012 R2 Standard / x64 | OK | OK | OK | OK | |||||||
| merida2 | OS X 10.11.6 El Capitan / x86_64 | OK | OK | OK | [ OK ] |
| Package: QuartPAC |
| Version: 1.12.1 |
| Command: rm -rf QuartPAC.buildbin-libdir && mkdir QuartPAC.buildbin-libdir && /Users/biocbuild/BBS/utils/build-universal.sh QuartPAC_1.12.1.tar.gz /Library/Frameworks/R.framework/Versions/Current/Resources/bin/R QuartPAC.buildbin-libdir |
| StartedAt: 2018-10-17 01:55:07 -0400 (Wed, 17 Oct 2018) |
| EndedAt: 2018-10-17 01:56:03 -0400 (Wed, 17 Oct 2018) |
| EllapsedTime: 55.6 seconds |
| RetCode: 0 |
| Status: OK |
| PackageFile: QuartPAC_1.12.1.tgz |
| PackageFileSize: 508.1 KiB |
############################################################################## ############################################################################## ### ### Running command: ### ### rm -rf QuartPAC.buildbin-libdir && mkdir QuartPAC.buildbin-libdir && /Users/biocbuild/BBS/utils/build-universal.sh QuartPAC_1.12.1.tar.gz /Library/Frameworks/R.framework/Versions/Current/Resources/bin/R QuartPAC.buildbin-libdir ### ############################################################################## ############################################################################## >>>>>>> >>>>>>> INSTALLATION WITH 'R CMD INSTALL --preclean --no-multiarch --library=QuartPAC.buildbin-libdir QuartPAC_1.12.1.tar.gz' >>>>>>> * installing *source* package ‘QuartPAC’ ... ** R ** inst ** byte-compile and prepare package for lazy loading ** help *** installing help indices ** building package indices ** installing vignettes ** testing if installed package can be loaded * DONE (QuartPAC)