| Back to Multiple platform build/check report for BioC 3.7 | 
  | 
This page was generated on 2018-10-17 08:26:22 -0400 (Wed, 17 Oct 2018).
| Package 1152/1561 | Hostname | OS / Arch | INSTALL | BUILD | CHECK | BUILD BIN | ||||||
| Pviz 1.14.0 Renan Sauteraud 
  | malbec2 | Linux (Ubuntu 16.04.1 LTS) / x86_64 | OK | [ OK ] | OK | |||||||
| tokay2 | Windows Server 2012 R2 Standard / x64 | OK | OK | OK | OK | |||||||
| merida2 | OS X 10.11.6 El Capitan / x86_64 | OK | OK | OK | OK | 
| Package: Pviz | 
| Version: 1.14.0 | 
| Command: /home/biocbuild/bbs-3.7-bioc/R/bin/R CMD build --keep-empty-dirs --no-resave-data Pviz | 
| StartedAt: 2018-10-15 20:07:16 -0400 (Mon, 15 Oct 2018) | 
| EndedAt: 2018-10-15 20:08:32 -0400 (Mon, 15 Oct 2018) | 
| EllapsedTime: 75.9 seconds | 
| RetCode: 0 | 
| Status: OK | 
| PackageFile: Pviz_1.14.0.tar.gz | 
| PackageFileSize: 208.8 KiB | 
##############################################################################
##############################################################################
###
### Running command:
###
###   /home/biocbuild/bbs-3.7-bioc/R/bin/R CMD build --keep-empty-dirs --no-resave-data Pviz
###
##############################################################################
##############################################################################
* checking for file ‘Pviz/DESCRIPTION’ ... OK
* preparing ‘Pviz’:
* checking DESCRIPTION meta-information ... OK
* installing the package to build vignettes
* creating vignettes ... OK
Warning: ‘inst/doc’ file
    ‘Pviz.pdf’
  ignored as vignettes have been rebuilt.
  Run R CMD build with --no-build-vignettes to prevent rebuilding.
* checking for LF line-endings in source and make files and shell scripts
* checking for empty or unneeded directories
* building ‘Pviz_1.14.0.tar.gz’