| Back to Multiple platform build/check report for BioC 3.7 |
|
This page was generated on 2018-10-17 08:55:15 -0400 (Wed, 17 Oct 2018).
| Package 1057/1561 | Hostname | OS / Arch | INSTALL | BUILD | CHECK | BUILD BIN | ||||||
| Path2PPI 1.10.0 Oliver Philipp
| malbec2 | Linux (Ubuntu 16.04.1 LTS) / x86_64 | OK | OK | OK | |||||||
| tokay2 | Windows Server 2012 R2 Standard / x64 | OK | OK | OK | OK | |||||||
| merida2 | OS X 10.11.6 El Capitan / x86_64 | OK | OK | [ OK ] | OK |
| Package: Path2PPI |
| Version: 1.10.0 |
| Command: /Library/Frameworks/R.framework/Versions/Current/Resources/bin/R CMD check --install=check:Path2PPI.install-out.txt --library=/Library/Frameworks/R.framework/Versions/Current/Resources/library --no-vignettes --timings Path2PPI_1.10.0.tar.gz |
| StartedAt: 2018-10-16 23:07:23 -0400 (Tue, 16 Oct 2018) |
| EndedAt: 2018-10-16 23:09:06 -0400 (Tue, 16 Oct 2018) |
| EllapsedTime: 102.5 seconds |
| RetCode: 0 |
| Status: OK |
| CheckDir: Path2PPI.Rcheck |
| Warnings: 0 |
##############################################################################
##############################################################################
###
### Running command:
###
### /Library/Frameworks/R.framework/Versions/Current/Resources/bin/R CMD check --install=check:Path2PPI.install-out.txt --library=/Library/Frameworks/R.framework/Versions/Current/Resources/library --no-vignettes --timings Path2PPI_1.10.0.tar.gz
###
##############################################################################
##############################################################################
* using log directory ‘/Users/biocbuild/bbs-3.7-bioc/meat/Path2PPI.Rcheck’
* using R version 3.5.1 Patched (2018-07-12 r74967)
* using platform: x86_64-apple-darwin15.6.0 (64-bit)
* using session charset: UTF-8
* using option ‘--no-vignettes’
* checking for file ‘Path2PPI/DESCRIPTION’ ... OK
* checking extension type ... Package
* this is package ‘Path2PPI’ version ‘1.10.0’
* checking package namespace information ... OK
* checking package dependencies ... OK
* checking if this is a source package ... OK
* checking if there is a namespace ... OK
* checking for hidden files and directories ... OK
* checking for portable file names ... OK
* checking for sufficient/correct file permissions ... OK
* checking whether package ‘Path2PPI’ can be installed ... OK
* checking installed package size ... OK
* checking package directory ... OK
* checking ‘build’ directory ... OK
* checking DESCRIPTION meta-information ... OK
* checking top-level files ... OK
* checking for left-over files ... OK
* checking index information ... OK
* checking package subdirectories ... NOTE
Found the following CITATION file in a non-standard place:
CITATION
Most likely ‘inst/CITATION’ should be used instead.
* checking R files for non-ASCII characters ... OK
* checking R files for syntax errors ... OK
* checking whether the package can be loaded ... OK
* checking whether the package can be loaded with stated dependencies ... OK
* checking whether the package can be unloaded cleanly ... OK
* checking whether the namespace can be loaded with stated dependencies ... OK
* checking whether the namespace can be unloaded cleanly ... OK
* checking dependencies in R code ... OK
* checking S3 generic/method consistency ... OK
* checking replacement functions ... OK
* checking foreign function calls ... OK
* checking R code for possible problems ... NOTE
.getInteractions,.ReferenceSpecies: no visible global function
definition for ‘combn’
addReference,Path2PPI: no visible global function definition for
‘read.table’
initialize,.ReferenceSpecies: no visible global function definition for
‘read.table’
plot.Path2PPI,Path2PPI: no visible global function definition for ‘rgb’
plot.Path2PPI,Path2PPI: no visible global function definition for
‘rainbow’
plot.Path2PPI,Path2PPI: no visible global function definition for ‘par’
plot.Path2PPI,Path2PPI: no visible global function definition for
‘adjustcolor’
plot.Path2PPI,Path2PPI: no visible global function definition for
‘plot’
plot.Path2PPI,Path2PPI: no visible global function definition for
‘legend’
Undefined global functions or variables:
adjustcolor combn legend par plot rainbow read.table rgb
Consider adding
importFrom("grDevices", "adjustcolor", "rainbow", "rgb")
importFrom("graphics", "legend", "par", "plot")
importFrom("utils", "combn", "read.table")
to your NAMESPACE file.
* checking Rd files ... OK
* checking Rd metadata ... OK
* checking Rd cross-references ... OK
* checking for missing documentation entries ... OK
* checking for code/documentation mismatches ... OK
* checking Rd \usage sections ... OK
* checking Rd contents ... OK
* checking for unstated dependencies in examples ... OK
* checking contents of ‘data’ directory ... OK
* checking data for non-ASCII characters ... OK
* checking data for ASCII and uncompressed saves ... OK
* checking files in ‘vignettes’ ... OK
* checking examples ... OK
Examples with CPU or elapsed time > 5s
user system elapsed
predictPPI 12.619 0.064 16.569
showInteraction 6.931 0.049 11.220
plot.Path2PPI 6.328 0.055 8.891
getPPI 5.366 0.038 5.464
getHybridNetwork 5.292 0.047 5.395
* checking for unstated dependencies in ‘tests’ ... OK
* checking tests ...
Running ‘runTests.R’
OK
* checking for unstated dependencies in vignettes ... OK
* checking package vignettes in ‘inst/doc’ ... OK
* checking running R code from vignettes ... SKIPPED
* checking re-building of vignette outputs ... SKIPPED
* checking PDF version of manual ... OK
* DONE
Status: 2 NOTEs
See
‘/Users/biocbuild/bbs-3.7-bioc/meat/Path2PPI.Rcheck/00check.log’
for details.
Path2PPI.Rcheck/00install.out
############################################################################## ############################################################################## ### ### Running command: ### ### /Library/Frameworks/R.framework/Versions/Current/Resources/bin/R CMD INSTALL Path2PPI ### ############################################################################## ############################################################################## * installing to library ‘/Library/Frameworks/R.framework/Versions/3.5/Resources/library’ * installing *source* package ‘Path2PPI’ ... ** R ** data ** inst ** byte-compile and prepare package for lazy loading ** help *** installing help indices ** building package indices ** installing vignettes ** testing if installed package can be loaded * DONE (Path2PPI)
Path2PPI.Rcheck/tests/runTests.Rout
R version 3.5.1 Patched (2018-07-12 r74967) -- "Feather Spray"
Copyright (C) 2018 The R Foundation for Statistical Computing
Platform: x86_64-apple-darwin15.6.0 (64-bit)
R is free software and comes with ABSOLUTELY NO WARRANTY.
You are welcome to redistribute it under certain conditions.
Type 'license()' or 'licence()' for distribution details.
R is a collaborative project with many contributors.
Type 'contributors()' for more information and
'citation()' on how to cite R or R packages in publications.
Type 'demo()' for some demos, 'help()' for on-line help, or
'help.start()' for an HTML browser interface to help.
Type 'q()' to quit R.
> BiocGenerics:::testPackage("Path2PPI")
Attaching package: 'igraph'
The following objects are masked from 'package:stats':
decompose, spectrum
The following object is masked from 'package:base':
union
Search for all relevant interactions:
0%--25%--50%--75%--100%
Remove irrelevant homologs.
Search for all relevant interactions:
0%--25%--50%--75%--100%
Remove irrelevant homologs.
Begin with Homo sapiens
6 interactions processed. These lead to 0 interactions in target species.
-------------------------------
Begin with Saccharomyces cerevisiae (S288c)
15 interactions processed. These lead to 8 interactions in target species.
-------------------------------
Combine results to one single PPI.
A total of 8 putative interactions were predicted in target species.
RUNIT TEST PROTOCOL -- Tue Oct 16 23:08:57 2018
***********************************************
Number of test functions: 2
Number of errors: 0
Number of failures: 0
1 Test Suite :
Path2PPI RUnit Tests - 2 test functions, 0 errors, 0 failures
Number of test functions: 2
Number of errors: 0
Number of failures: 0
>
> proc.time()
user system elapsed
6.793 0.177 7.038
Path2PPI.Rcheck/Path2PPI-Ex.timings
| name | user | system | elapsed | |
| Path2PPI | 0.003 | 0.000 | 0.004 | |
| addReference | 2.584 | 0.073 | 3.165 | |
| ai | 0.253 | 0.012 | 0.276 | |
| getHybridNetwork | 5.292 | 0.047 | 5.395 | |
| getPPI | 5.366 | 0.038 | 5.464 | |
| homologyScore | 0.001 | 0.000 | 0.001 | |
| plot.Path2PPI | 6.328 | 0.055 | 8.891 | |
| predictPPI | 12.619 | 0.064 | 16.569 | |
| removeReference | 1.994 | 0.025 | 2.035 | |
| showInteraction | 6.931 | 0.049 | 11.220 | |
| showReferences | 2.423 | 0.033 | 3.083 | |