| Back to Multiple platform build/check report for BioC 3.7 |
|
This page was generated on 2018-10-17 08:50:34 -0400 (Wed, 17 Oct 2018).
| Package 1153/1561 | Hostname | OS / Arch | INSTALL | BUILD | CHECK | BUILD BIN | ||||||
| PWMEnrich 4.16.0 Robert Stojnic
| malbec2 | Linux (Ubuntu 16.04.1 LTS) / x86_64 | OK | OK | OK | |||||||
| tokay2 | Windows Server 2012 R2 Standard / x64 | OK | OK | OK | OK | |||||||
| merida2 | OS X 10.11.6 El Capitan / x86_64 | OK | OK | OK | [ OK ] |
| Package: PWMEnrich |
| Version: 4.16.0 |
| Command: rm -rf PWMEnrich.buildbin-libdir && mkdir PWMEnrich.buildbin-libdir && /Users/biocbuild/BBS/utils/build-universal.sh PWMEnrich_4.16.0.tar.gz /Library/Frameworks/R.framework/Versions/Current/Resources/bin/R PWMEnrich.buildbin-libdir |
| StartedAt: 2018-10-17 01:54:34 -0400 (Wed, 17 Oct 2018) |
| EndedAt: 2018-10-17 01:55:24 -0400 (Wed, 17 Oct 2018) |
| EllapsedTime: 50.4 seconds |
| RetCode: 0 |
| Status: OK |
| PackageFile: PWMEnrich_4.16.0.tgz |
| PackageFileSize: 5.108 MiB |
############################################################################## ############################################################################## ### ### Running command: ### ### rm -rf PWMEnrich.buildbin-libdir && mkdir PWMEnrich.buildbin-libdir && /Users/biocbuild/BBS/utils/build-universal.sh PWMEnrich_4.16.0.tar.gz /Library/Frameworks/R.framework/Versions/Current/Resources/bin/R PWMEnrich.buildbin-libdir ### ############################################################################## ############################################################################## >>>>>>> >>>>>>> INSTALLATION WITH 'R CMD INSTALL --preclean --no-multiarch --library=PWMEnrich.buildbin-libdir PWMEnrich_4.16.0.tar.gz' >>>>>>> * installing *source* package ‘PWMEnrich’ ... ** R ** inst ** byte-compile and prepare package for lazy loading ** help *** installing help indices ** building package indices ** installing vignettes ** testing if installed package can be loaded * DONE (PWMEnrich)