| Back to Multiple platform build/check report for BioC 3.7 |
|
This page was generated on 2018-10-17 08:43:26 -0400 (Wed, 17 Oct 2018).
| Package 1114/1561 | Hostname | OS / Arch | INSTALL | BUILD | CHECK | BUILD BIN | ||||||
| POST 1.4.0 Xueyuan Cao
| malbec2 | Linux (Ubuntu 16.04.1 LTS) / x86_64 | OK | OK | WARNINGS | |||||||
| tokay2 | Windows Server 2012 R2 Standard / x64 | OK | OK | WARNINGS | [ OK ] | |||||||
| merida2 | OS X 10.11.6 El Capitan / x86_64 | OK | OK | WARNINGS | OK |
| Package: POST |
| Version: 1.4.0 |
| Command: rm -rf POST.buildbin-libdir && mkdir POST.buildbin-libdir && C:\Users\biocbuild\bbs-3.7-bioc\R\bin\R.exe CMD INSTALL --merge-multiarch --build --library=POST.buildbin-libdir POST_1.4.0.tar.gz |
| StartedAt: 2018-10-17 06:48:17 -0400 (Wed, 17 Oct 2018) |
| EndedAt: 2018-10-17 06:48:35 -0400 (Wed, 17 Oct 2018) |
| EllapsedTime: 18.5 seconds |
| RetCode: 0 |
| Status: OK |
| PackageFile: POST_1.4.0.zip |
| PackageFileSize: 174.1 KiB |
##############################################################################
##############################################################################
###
### Running command:
###
### rm -rf POST.buildbin-libdir && mkdir POST.buildbin-libdir && C:\Users\biocbuild\bbs-3.7-bioc\R\bin\R.exe CMD INSTALL --merge-multiarch --build --library=POST.buildbin-libdir POST_1.4.0.tar.gz
###
##############################################################################
##############################################################################
install for i386
* installing *source* package 'POST' ...
** R
** data
** inst
** byte-compile and prepare package for lazy loading
Note: break used in wrong context: no loop is visible
Note: break used in wrong context: no loop is visible
** help
*** installing help indices
converting help for package 'POST'
finding HTML links ... done
POST-package html
POSTcoxph html
POSTglm html
sampExprSet html
sampGeneSet html
** building package indices
** installing vignettes
** testing if installed package can be loaded
In R CMD INSTALL
install for x64
* installing *source* package 'POST' ...
** testing if installed package can be loaded
* MD5 sums
packaged installation of 'POST' as POST_1.4.0.zip
* DONE (POST)
In R CMD INSTALL
In R CMD INSTALL