| Back to Multiple platform build/check report for BioC 3.7 |
|
This page was generated on 2018-10-17 08:47:52 -0400 (Wed, 17 Oct 2018).
| Package 1105/1561 | Hostname | OS / Arch | INSTALL | BUILD | CHECK | BUILD BIN | ||||||
| PLPE 1.40.0 Soo-heang Eo
| malbec2 | Linux (Ubuntu 16.04.1 LTS) / x86_64 | OK | OK | OK | |||||||
| tokay2 | Windows Server 2012 R2 Standard / x64 | OK | OK | OK | OK | |||||||
| merida2 | OS X 10.11.6 El Capitan / x86_64 | OK | [ OK ] | OK | OK |
| Package: PLPE |
| Version: 1.40.0 |
| Command: /Library/Frameworks/R.framework/Versions/Current/Resources/bin/R CMD build --keep-empty-dirs --no-resave-data PLPE |
| StartedAt: 2018-10-16 16:34:34 -0400 (Tue, 16 Oct 2018) |
| EndedAt: 2018-10-16 16:35:02 -0400 (Tue, 16 Oct 2018) |
| EllapsedTime: 28.6 seconds |
| RetCode: 0 |
| Status: OK |
| PackageFile: PLPE_1.40.0.tar.gz |
| PackageFileSize: 157.3 KiB |
############################################################################## ############################################################################## ### ### Running command: ### ### /Library/Frameworks/R.framework/Versions/Current/Resources/bin/R CMD build --keep-empty-dirs --no-resave-data PLPE ### ############################################################################## ############################################################################## * checking for file ‘PLPE/DESCRIPTION’ ... OK * preparing ‘PLPE’: * checking DESCRIPTION meta-information ... OK * checking whether ‘INDEX’ is up-to-date ... NO * use ‘--force’ to remove the existing ‘INDEX’ * installing the package to build vignettes * creating vignettes ... OK * checking for LF line-endings in source and make files and shell scripts * checking for empty or unneeded directories * looking to see if a ‘data/datalist’ file should be added * building ‘PLPE_1.40.0.tar.gz’