| Back to Multiple platform build/check report for BioC 3.7 |
|
This page was generated on 2018-10-17 08:36:06 -0400 (Wed, 17 Oct 2018).
| Package 1098/1561 | Hostname | OS / Arch | INSTALL | BUILD | CHECK | BUILD BIN | ||||||
| PING 2.24.0 Renan Sauteraud
| malbec2 | Linux (Ubuntu 16.04.1 LTS) / x86_64 | OK | OK | WARNINGS | |||||||
| tokay2 | Windows Server 2012 R2 Standard / x64 | OK | [ OK ] | WARNINGS | OK | |||||||
| merida2 | OS X 10.11.6 El Capitan / x86_64 | OK | OK | WARNINGS | OK |
| Package: PING |
| Version: 2.24.0 |
| Command: chmod a+r PING -R && C:\Users\biocbuild\bbs-3.7-bioc\R\bin\R.exe CMD build --keep-empty-dirs --no-resave-data PING |
| StartedAt: 2018-10-16 21:36:26 -0400 (Tue, 16 Oct 2018) |
| EndedAt: 2018-10-16 21:40:20 -0400 (Tue, 16 Oct 2018) |
| EllapsedTime: 233.9 seconds |
| RetCode: 0 |
| Status: OK |
| PackageFile: PING_2.24.0.tar.gz |
| PackageFileSize: 4.929 MiB |
##############################################################################
##############################################################################
###
### Running command:
###
### chmod a+r PING -R && C:\Users\biocbuild\bbs-3.7-bioc\R\bin\R.exe CMD build --keep-empty-dirs --no-resave-data PING
###
##############################################################################
##############################################################################
* checking for file 'PING/DESCRIPTION' ... OK
* preparing 'PING':
* checking DESCRIPTION meta-information ... OK
* cleaning src
* installing the package to build vignettes
* creating vignettes ... OK
Warning: 'inst/doc' file
'PING-PE.R'
ignored as vignettes have been rebuilt.
Run R CMD build with --no-build-vignettes to prevent rebuilding.
* cleaning src
* checking for LF line-endings in source and make files and shell scripts
* checking for empty or unneeded directories
* building 'PING_2.24.0.tar.gz'
Warning: file 'PING/cleanup' did not have execute permissions: corrected
Warning: file 'PING/configure' did not have execute permissions: corrected