Back to Multiple platform build/check report for BioC 3.7 |
|
This page was generated on 2018-10-17 08:48:37 -0400 (Wed, 17 Oct 2018).
Package 1096/1561 | Hostname | OS / Arch | INSTALL | BUILD | CHECK | BUILD BIN | ||||||
PICS 2.24.0 Renan Sauteraud
| malbec2 | Linux (Ubuntu 16.04.1 LTS) / x86_64 | OK | OK | WARNINGS | |||||||
tokay2 | Windows Server 2012 R2 Standard / x64 | OK | OK | WARNINGS | OK | |||||||
merida2 | OS X 10.11.6 El Capitan / x86_64 | OK | [ OK ] | WARNINGS | OK |
Package: PICS |
Version: 2.24.0 |
Command: /Library/Frameworks/R.framework/Versions/Current/Resources/bin/R CMD build --keep-empty-dirs --no-resave-data PICS |
StartedAt: 2018-10-16 16:42:28 -0400 (Tue, 16 Oct 2018) |
EndedAt: 2018-10-16 16:43:35 -0400 (Tue, 16 Oct 2018) |
EllapsedTime: 67.3 seconds |
RetCode: 0 |
Status: OK |
PackageFile: PICS_2.24.0.tar.gz |
PackageFileSize: 829.4 KiB |
############################################################################## ############################################################################## ### ### Running command: ### ### /Library/Frameworks/R.framework/Versions/Current/Resources/bin/R CMD build --keep-empty-dirs --no-resave-data PICS ### ############################################################################## ############################################################################## * checking for file ‘PICS/DESCRIPTION’ ... OK * preparing ‘PICS’: * checking DESCRIPTION meta-information ... OK * cleaning src * running ‘cleanup’ * installing the package to build vignettes * creating vignettes ... OK * cleaning src * running ‘cleanup’ * checking for LF line-endings in source and make files and shell scripts * checking for empty or unneeded directories * building ‘PICS_2.24.0.tar.gz’