| Back to Multiple platform build/check report for BioC 3.7 |
|
This page was generated on 2018-10-17 08:56:10 -0400 (Wed, 17 Oct 2018).
| Package 1072/1561 | Hostname | OS / Arch | INSTALL | BUILD | CHECK | BUILD BIN | ||||||
| PCAN 1.8.0 Matthew Page
| malbec2 | Linux (Ubuntu 16.04.1 LTS) / x86_64 | OK | OK | OK | |||||||
| tokay2 | Windows Server 2012 R2 Standard / x64 | OK | OK | OK | OK | |||||||
| merida2 | OS X 10.11.6 El Capitan / x86_64 | OK | OK | OK | [ OK ] |
| Package: PCAN |
| Version: 1.8.0 |
| Command: rm -rf PCAN.buildbin-libdir && mkdir PCAN.buildbin-libdir && /Users/biocbuild/BBS/utils/build-universal.sh PCAN_1.8.0.tar.gz /Library/Frameworks/R.framework/Versions/Current/Resources/bin/R PCAN.buildbin-libdir |
| StartedAt: 2018-10-17 01:50:31 -0400 (Wed, 17 Oct 2018) |
| EndedAt: 2018-10-17 01:51:21 -0400 (Wed, 17 Oct 2018) |
| EllapsedTime: 49.9 seconds |
| RetCode: 0 |
| Status: OK |
| PackageFile: PCAN_1.8.0.tgz |
| PackageFileSize: 2.708 MiB |
############################################################################## ############################################################################## ### ### Running command: ### ### rm -rf PCAN.buildbin-libdir && mkdir PCAN.buildbin-libdir && /Users/biocbuild/BBS/utils/build-universal.sh PCAN_1.8.0.tar.gz /Library/Frameworks/R.framework/Versions/Current/Resources/bin/R PCAN.buildbin-libdir ### ############################################################################## ############################################################################## >>>>>>> >>>>>>> INSTALLATION WITH 'R CMD INSTALL --preclean --no-multiarch --library=PCAN.buildbin-libdir PCAN_1.8.0.tar.gz' >>>>>>> * installing *source* package ‘PCAN’ ... ** R ** data ** inst ** byte-compile and prepare package for lazy loading ** help *** installing help indices ** building package indices ** installing vignettes ** testing if installed package can be loaded * DONE (PCAN)