| Back to Multiple platform build/check report for BioC 3.7 |
|
This page was generated on 2018-10-17 08:49:55 -0400 (Wed, 17 Oct 2018).
| Package 1052/1561 | Hostname | OS / Arch | INSTALL | BUILD | CHECK | BUILD BIN | ||||||
| PANR 1.26.0 Xin Wang
| malbec2 | Linux (Ubuntu 16.04.1 LTS) / x86_64 | OK | OK | OK | |||||||
| tokay2 | Windows Server 2012 R2 Standard / x64 | OK | OK | WARNINGS | OK | |||||||
| merida2 | OS X 10.11.6 El Capitan / x86_64 | OK | OK | OK | [ OK ] |
| Package: PANR |
| Version: 1.26.0 |
| Command: rm -rf PANR.buildbin-libdir && mkdir PANR.buildbin-libdir && /Users/biocbuild/BBS/utils/build-universal.sh PANR_1.26.0.tar.gz /Library/Frameworks/R.framework/Versions/Current/Resources/bin/R PANR.buildbin-libdir |
| StartedAt: 2018-10-17 01:49:33 -0400 (Wed, 17 Oct 2018) |
| EndedAt: 2018-10-17 01:50:20 -0400 (Wed, 17 Oct 2018) |
| EllapsedTime: 46.7 seconds |
| RetCode: 0 |
| Status: OK |
| PackageFile: PANR_1.26.0.tgz |
| PackageFileSize: 1.988 MiB |
############################################################################## ############################################################################## ### ### Running command: ### ### rm -rf PANR.buildbin-libdir && mkdir PANR.buildbin-libdir && /Users/biocbuild/BBS/utils/build-universal.sh PANR_1.26.0.tar.gz /Library/Frameworks/R.framework/Versions/Current/Resources/bin/R PANR.buildbin-libdir ### ############################################################################## ############################################################################## >>>>>>> >>>>>>> INSTALLATION WITH 'R CMD INSTALL --preclean --no-multiarch --library=PANR.buildbin-libdir PANR_1.26.0.tar.gz' >>>>>>> * installing *source* package ‘PANR’ ... ** R ** data ** inst ** byte-compile and prepare package for lazy loading ** help *** installing help indices ** building package indices ** installing vignettes ** testing if installed package can be loaded * DONE (PANR)