| Back to Multiple platform build/check report for BioC 3.7 |
|
This page was generated on 2018-10-17 08:43:34 -0400 (Wed, 17 Oct 2018).
| Package 1039/1561 | Hostname | OS / Arch | INSTALL | BUILD | CHECK | BUILD BIN | ||||||
| Organism.dplyr 1.8.1 Martin Morgan
| malbec2 | Linux (Ubuntu 16.04.1 LTS) / x86_64 | OK | OK | OK | |||||||
| tokay2 | Windows Server 2012 R2 Standard / x64 | OK | OK | WARNINGS | [ OK ] | |||||||
| merida2 | OS X 10.11.6 El Capitan / x86_64 | OK | OK | OK | OK |
| Package: Organism.dplyr |
| Version: 1.8.1 |
| Command: rm -rf Organism.dplyr.buildbin-libdir && mkdir Organism.dplyr.buildbin-libdir && C:\Users\biocbuild\bbs-3.7-bioc\R\bin\R.exe CMD INSTALL --merge-multiarch --build --library=Organism.dplyr.buildbin-libdir Organism.dplyr_1.8.1.tar.gz |
| StartedAt: 2018-10-17 06:45:45 -0400 (Wed, 17 Oct 2018) |
| EndedAt: 2018-10-17 06:46:18 -0400 (Wed, 17 Oct 2018) |
| EllapsedTime: 33.2 seconds |
| RetCode: 0 |
| Status: OK |
| PackageFile: Organism.dplyr_1.8.1.zip |
| PackageFileSize: 773.8 KiB |
##############################################################################
##############################################################################
###
### Running command:
###
### rm -rf Organism.dplyr.buildbin-libdir && mkdir Organism.dplyr.buildbin-libdir && C:\Users\biocbuild\bbs-3.7-bioc\R\bin\R.exe CMD INSTALL --merge-multiarch --build --library=Organism.dplyr.buildbin-libdir Organism.dplyr_1.8.1.tar.gz
###
##############################################################################
##############################################################################
install for i386
* installing *source* package 'Organism.dplyr' ...
** R
** inst
** byte-compile and prepare package for lazy loading
** help
*** installing help indices
converting help for package 'Organism.dplyr'
finding HTML links ... done
Genomic-Extractors html
finding level-2 HTML links ... done
filter html
Rd warning: C:/Users/biocbuild/bbs-3.7-bioc/tmpdir/RtmpEtydvt/R.INSTALL21305f9b5d7f/Organism.dplyr/man/filter.Rd:152: file link 'transcripts_tbl' in package 'Organism.dplyr' does not exist and so has been treated as a topic
Rd warning: C:/Users/biocbuild/bbs-3.7-bioc/tmpdir/RtmpEtydvt/R.INSTALL21305f9b5d7f/Organism.dplyr/man/filter.Rd:155: file link 'select,src_organism-method' in package 'Organism.dplyr' does not exist and so has been treated as a topic
select html
Rd warning: C:/Users/biocbuild/bbs-3.7-bioc/tmpdir/RtmpEtydvt/R.INSTALL21305f9b5d7f/Organism.dplyr/man/select.Rd:137: file link 'transcripts_tbl' in package 'Organism.dplyr' does not exist and so has been treated as a topic
src html
Rd warning: C:/Users/biocbuild/bbs-3.7-bioc/tmpdir/RtmpEtydvt/R.INSTALL21305f9b5d7f/Organism.dplyr/man/src.Rd:123: file link 'transcripts_tbl' in package 'Organism.dplyr' does not exist and so has been treated as a topic
Rd warning: C:/Users/biocbuild/bbs-3.7-bioc/tmpdir/RtmpEtydvt/R.INSTALL21305f9b5d7f/Organism.dplyr/man/src.Rd:126: file link 'select,src_organism-method' in package 'Organism.dplyr' does not exist and so has been treated as a topic
utils html
** building package indices
** installing vignettes
** testing if installed package can be loaded
In R CMD INSTALL
install for x64
* installing *source* package 'Organism.dplyr' ...
** testing if installed package can be loaded
* MD5 sums
packaged installation of 'Organism.dplyr' as Organism.dplyr_1.8.1.zip
* DONE (Organism.dplyr)
In R CMD INSTALL
In R CMD INSTALL