| Back to Multiple platform build/check report for BioC 3.7 |
|
This page was generated on 2018-10-17 08:41:58 -0400 (Wed, 17 Oct 2018).
| Package 1025/1561 | Hostname | OS / Arch | INSTALL | BUILD | CHECK | BUILD BIN | ||||||
| OncoScore 1.8.0 Daniele Ramazzotti
| malbec2 | Linux (Ubuntu 16.04.1 LTS) / x86_64 | OK | OK | OK | |||||||
| tokay2 | Windows Server 2012 R2 Standard / x64 | OK | OK | OK | [ OK ] | |||||||
| merida2 | OS X 10.11.6 El Capitan / x86_64 | OK | OK | OK | OK |
| Package: OncoScore |
| Version: 1.8.0 |
| Command: rm -rf OncoScore.buildbin-libdir && mkdir OncoScore.buildbin-libdir && C:\Users\biocbuild\bbs-3.7-bioc\R\bin\R.exe CMD INSTALL --merge-multiarch --build --library=OncoScore.buildbin-libdir OncoScore_1.8.0.tar.gz |
| StartedAt: 2018-10-17 06:45:17 -0400 (Wed, 17 Oct 2018) |
| EndedAt: 2018-10-17 06:45:31 -0400 (Wed, 17 Oct 2018) |
| EllapsedTime: 13.9 seconds |
| RetCode: 0 |
| Status: OK |
| PackageFile: OncoScore_1.8.0.zip |
| PackageFileSize: 270.3 KiB |
##############################################################################
##############################################################################
###
### Running command:
###
### rm -rf OncoScore.buildbin-libdir && mkdir OncoScore.buildbin-libdir && C:\Users\biocbuild\bbs-3.7-bioc\R\bin\R.exe CMD INSTALL --merge-multiarch --build --library=OncoScore.buildbin-libdir OncoScore_1.8.0.tar.gz
###
##############################################################################
##############################################################################
install for i386
* installing *source* package 'OncoScore' ...
** R
** data
*** moving datasets to lazyload DB
** inst
** byte-compile and prepare package for lazy loading
** help
*** installing help indices
converting help for package 'OncoScore'
finding HTML links ... done
combine.query.results html
combine.single.matrix html
compute.frequencies.scores html
compute.oncoscore html
compute.oncoscore.from.region html
compute.oncoscore.timeseries html
estimate.oncogenes html
genes html
get.genes.from.biomart html
get.list.from.xml html
get.pubmed.driver.analysis html
perform.query html
perform.query.from.region html
perform.query.timeseries html
plot.oncoscore html
plot.oncoscore.timeseries html
query html
query.timepoints html
timepoints html
try.scan html
** building package indices
** installing vignettes
** testing if installed package can be loaded
In R CMD INSTALL
install for x64
* installing *source* package 'OncoScore' ...
** testing if installed package can be loaded
* MD5 sums
packaged installation of 'OncoScore' as OncoScore_1.8.0.zip
* DONE (OncoScore)
In R CMD INSTALL
In R CMD INSTALL