| Back to Multiple platform build/check report for BioC 3.7 |
|
This page was generated on 2018-10-17 08:58:28 -0400 (Wed, 17 Oct 2018).
| Package 1036/1561 | Hostname | OS / Arch | INSTALL | BUILD | CHECK | BUILD BIN | ||||||
| OPWeight 1.2.0 Mohamad Hasan
| malbec2 | Linux (Ubuntu 16.04.1 LTS) / x86_64 | OK | OK | OK | |||||||
| tokay2 | Windows Server 2012 R2 Standard / x64 | OK | OK | OK | OK | |||||||
| merida2 | OS X 10.11.6 El Capitan / x86_64 | OK | OK | OK | [ OK ] |
| Package: OPWeight |
| Version: 1.2.0 |
| Command: rm -rf OPWeight.buildbin-libdir && mkdir OPWeight.buildbin-libdir && /Users/biocbuild/BBS/utils/build-universal.sh OPWeight_1.2.0.tar.gz /Library/Frameworks/R.framework/Versions/Current/Resources/bin/R OPWeight.buildbin-libdir |
| StartedAt: 2018-10-17 01:48:47 -0400 (Wed, 17 Oct 2018) |
| EndedAt: 2018-10-17 01:49:30 -0400 (Wed, 17 Oct 2018) |
| EllapsedTime: 43.3 seconds |
| RetCode: 0 |
| Status: OK |
| PackageFile: OPWeight_1.2.0.tgz |
| PackageFileSize: 616.6 KiB |
############################################################################## ############################################################################## ### ### Running command: ### ### rm -rf OPWeight.buildbin-libdir && mkdir OPWeight.buildbin-libdir && /Users/biocbuild/BBS/utils/build-universal.sh OPWeight_1.2.0.tar.gz /Library/Frameworks/R.framework/Versions/Current/Resources/bin/R OPWeight.buildbin-libdir ### ############################################################################## ############################################################################## >>>>>>> >>>>>>> INSTALLATION WITH 'R CMD INSTALL --preclean --no-multiarch --library=OPWeight.buildbin-libdir OPWeight_1.2.0.tar.gz' >>>>>>> * installing *source* package ‘OPWeight’ ... ** R ** inst ** byte-compile and prepare package for lazy loading ** help *** installing help indices ** building package indices ** installing vignettes ** testing if installed package can be loaded * DONE (OPWeight)