| Back to Multiple platform build/check report for BioC 3.7 |
|
This page was generated on 2018-10-17 08:29:34 -0400 (Wed, 17 Oct 2018).
| Package 970/1561 | Hostname | OS / Arch | INSTALL | BUILD | CHECK | BUILD BIN | ||||||
| MutationalPatterns 1.6.1 Roel Janssen
| malbec2 | Linux (Ubuntu 16.04.1 LTS) / x86_64 | OK | OK | [ OK ] | |||||||
| tokay2 | Windows Server 2012 R2 Standard / x64 | OK | OK | OK | OK | |||||||
| merida2 | OS X 10.11.6 El Capitan / x86_64 | OK | OK | OK | OK |
| Package: MutationalPatterns |
| Version: 1.6.1 |
| Command: /home/biocbuild/bbs-3.7-bioc/R/bin/R CMD check --install=check:MutationalPatterns.install-out.txt --library=/home/biocbuild/bbs-3.7-bioc/R/library --no-vignettes --timings MutationalPatterns_1.6.1.tar.gz |
| StartedAt: 2018-10-16 02:17:00 -0400 (Tue, 16 Oct 2018) |
| EndedAt: 2018-10-16 02:21:38 -0400 (Tue, 16 Oct 2018) |
| EllapsedTime: 277.8 seconds |
| RetCode: 0 |
| Status: OK |
| CheckDir: MutationalPatterns.Rcheck |
| Warnings: 0 |
##############################################################################
##############################################################################
###
### Running command:
###
### /home/biocbuild/bbs-3.7-bioc/R/bin/R CMD check --install=check:MutationalPatterns.install-out.txt --library=/home/biocbuild/bbs-3.7-bioc/R/library --no-vignettes --timings MutationalPatterns_1.6.1.tar.gz
###
##############################################################################
##############################################################################
* using log directory ‘/home/biocbuild/bbs-3.7-bioc/meat/MutationalPatterns.Rcheck’
* using R version 3.5.1 Patched (2018-07-12 r74967)
* using platform: x86_64-pc-linux-gnu (64-bit)
* using session charset: UTF-8
* using option ‘--no-vignettes’
* checking for file ‘MutationalPatterns/DESCRIPTION’ ... OK
* checking extension type ... Package
* this is package ‘MutationalPatterns’ version ‘1.6.1’
* package encoding: UTF-8
* checking package namespace information ... OK
* checking package dependencies ... OK
* checking if this is a source package ... OK
* checking if there is a namespace ... OK
* checking for hidden files and directories ... OK
* checking for portable file names ... OK
* checking for sufficient/correct file permissions ... OK
* checking whether package ‘MutationalPatterns’ can be installed ... OK
* checking installed package size ... OK
* checking package directory ... OK
* checking ‘build’ directory ... OK
* checking DESCRIPTION meta-information ... OK
* checking top-level files ... OK
* checking for left-over files ... OK
* checking index information ... OK
* checking package subdirectories ... OK
* checking R files for non-ASCII characters ... OK
* checking R files for syntax errors ... OK
* checking whether the package can be loaded ... OK
* checking whether the package can be loaded with stated dependencies ... OK
* checking whether the package can be unloaded cleanly ... OK
* checking whether the namespace can be loaded with stated dependencies ... OK
* checking whether the namespace can be unloaded cleanly ... OK
* checking dependencies in R code ... OK
* checking S3 generic/method consistency ... OK
* checking replacement functions ... OK
* checking foreign function calls ... OK
* checking R code for possible problems ... OK
* checking Rd files ... OK
* checking Rd metadata ... OK
* checking Rd cross-references ... OK
* checking for missing documentation entries ... OK
* checking for code/documentation mismatches ... OK
* checking Rd \usage sections ... OK
* checking Rd contents ... OK
* checking for unstated dependencies in examples ... OK
* checking files in ‘vignettes’ ... OK
* checking examples ... OK
Examples with CPU or elapsed time > 5s
user system elapsed
mut_matrix_stranded 14.584 5.000 3.153
read_vcfs_as_granges 14.376 2.960 2.976
genomic_distribution 13.404 0.136 13.589
mut_matrix 5.940 1.972 1.473
plot_spectrum 6.724 0.068 6.799
* checking for unstated dependencies in ‘tests’ ... OK
* checking tests ...
Running ‘testthat.R’
OK
* checking for unstated dependencies in vignettes ... OK
* checking package vignettes in ‘inst/doc’ ... OK
* checking running R code from vignettes ... SKIPPED
* checking re-building of vignette outputs ... SKIPPED
* checking PDF version of manual ... OK
* DONE
Status: OK
MutationalPatterns.Rcheck/00install.out
############################################################################## ############################################################################## ### ### Running command: ### ### /home/biocbuild/bbs-3.7-bioc/R/bin/R CMD INSTALL MutationalPatterns ### ############################################################################## ############################################################################## * installing to library ‘/home/biocbuild/bbs-3.7-bioc/R/library’ * installing *source* package ‘MutationalPatterns’ ... ** R ** inst ** byte-compile and prepare package for lazy loading ** help *** installing help indices ** building package indices ** installing vignettes ** testing if installed package can be loaded * DONE (MutationalPatterns)
MutationalPatterns.Rcheck/tests/testthat.Rout
R version 3.5.1 Patched (2018-07-12 r74967) -- "Feather Spray"
Copyright (C) 2018 The R Foundation for Statistical Computing
Platform: x86_64-pc-linux-gnu (64-bit)
R is free software and comes with ABSOLUTELY NO WARRANTY.
You are welcome to redistribute it under certain conditions.
Type 'license()' or 'licence()' for distribution details.
R is a collaborative project with many contributors.
Type 'contributors()' for more information and
'citation()' on how to cite R or R packages in publications.
Type 'demo()' for some demos, 'help()' for on-line help, or
'help.start()' for an HTML browser interface to help.
Type 'q()' to quit R.
> library(testthat)
> library(MutationalPatterns)
Loading required package: GenomicRanges
Loading required package: stats4
Loading required package: BiocGenerics
Loading required package: parallel
Attaching package: 'BiocGenerics'
The following objects are masked from 'package:parallel':
clusterApply, clusterApplyLB, clusterCall, clusterEvalQ,
clusterExport, clusterMap, parApply, parCapply, parLapply,
parLapplyLB, parRapply, parSapply, parSapplyLB
The following objects are masked from 'package:stats':
IQR, mad, sd, var, xtabs
The following objects are masked from 'package:base':
Filter, Find, Map, Position, Reduce, anyDuplicated, append,
as.data.frame, basename, cbind, colMeans, colSums, colnames,
dirname, do.call, duplicated, eval, evalq, get, grep, grepl,
intersect, is.unsorted, lapply, lengths, mapply, match, mget,
order, paste, pmax, pmax.int, pmin, pmin.int, rank, rbind,
rowMeans, rowSums, rownames, sapply, setdiff, sort, table, tapply,
union, unique, unsplit, which, which.max, which.min
Loading required package: S4Vectors
Attaching package: 'S4Vectors'
The following object is masked from 'package:base':
expand.grid
Loading required package: IRanges
Loading required package: GenomeInfoDb
Loading required package: NMF
Loading required package: pkgmaker
Loading required package: registry
Attaching package: 'pkgmaker'
The following object is masked from 'package:S4Vectors':
new2
The following object is masked from 'package:base':
isFALSE
Loading required package: rngtools
Loading required package: cluster
NMF - BioConductor layer [OK] | Shared memory capabilities [NO: synchronicity] | Cores 19/20
To enable shared memory capabilities, try: install.extras('
NMF
')
Attaching package: 'NMF'
The following object is masked from 'package:S4Vectors':
nrun
The following object is masked from 'package:testthat':
compare
>
> test_check("MutationalPatterns")
══ testthat results ═══════════════════════════════════════════════════════════
OK: 10 SKIPPED: 0 FAILED: 0
>
> proc.time()
user system elapsed
178.044 40.136 47.307
MutationalPatterns.Rcheck/MutationalPatterns-Ex.timings
| name | user | system | elapsed | |
| binomial_test | 0.672 | 0.000 | 0.672 | |
| cluster_signatures | 0.032 | 0.000 | 0.067 | |
| cos_sim | 0 | 0 | 0 | |
| cos_sim_matrix | 0.012 | 0.000 | 0.010 | |
| enrichment_depletion_test | 0.084 | 0.000 | 0.091 | |
| explained_by_signatures | 0.008 | 0.000 | 0.010 | |
| extract_signatures | 0.000 | 0.000 | 0.001 | |
| fit_to_signatures | 0.032 | 0.000 | 0.031 | |
| genomic_distribution | 13.404 | 0.136 | 13.589 | |
| mut_context | 0.688 | 0.024 | 0.714 | |
| mut_matrix | 5.940 | 1.972 | 1.473 | |
| mut_matrix_stranded | 14.584 | 5.000 | 3.153 | |
| mut_strand | 0.184 | 0.024 | 0.206 | |
| mut_type | 0.028 | 0.000 | 0.027 | |
| mut_type_occurrences | 4.364 | 0.116 | 4.482 | |
| mutation_context | 0.540 | 0.016 | 0.553 | |
| mutation_types | 0.028 | 0.000 | 0.025 | |
| mutations_from_vcf | 0.024 | 0.000 | 0.025 | |
| plot_192_profile | 0.844 | 0.000 | 0.843 | |
| plot_96_profile | 0.816 | 0.000 | 0.816 | |
| plot_compare_profiles | 0.668 | 0.004 | 0.672 | |
| plot_contribution | 0.932 | 0.004 | 0.936 | |
| plot_contribution_heatmap | 0.608 | 0.000 | 0.606 | |
| plot_cosine_heatmap | 0.452 | 0.000 | 0.454 | |
| plot_enrichment_depletion | 2.192 | 0.004 | 2.200 | |
| plot_rainfall | 0.900 | 0.000 | 0.903 | |
| plot_signature_strand_bias | 0.448 | 0.000 | 0.451 | |
| plot_spectrum | 6.724 | 0.068 | 6.799 | |
| plot_strand | 0.14 | 0.00 | 0.14 | |
| plot_strand_bias | 0.552 | 0.000 | 0.555 | |
| read_vcfs_as_granges | 14.376 | 2.960 | 2.976 | |
| strand_bias_test | 0.116 | 0.016 | 0.129 | |
| strand_occurrences | 0.128 | 0.024 | 0.155 | |
| type_context | 0.552 | 0.036 | 0.590 | |