| Back to Multiple platform build/check report for BioC 3.7 |
|
This page was generated on 2018-10-17 08:50:46 -0400 (Wed, 17 Oct 2018).
| Package 940/1561 | Hostname | OS / Arch | INSTALL | BUILD | CHECK | BUILD BIN | ||||||
| MotifDb 1.22.0 Paul Shannon
| malbec2 | Linux (Ubuntu 16.04.1 LTS) / x86_64 | OK | OK | OK | |||||||
| tokay2 | Windows Server 2012 R2 Standard / x64 | OK | OK | OK | OK | |||||||
| merida2 | OS X 10.11.6 El Capitan / x86_64 | OK | OK | OK | [ OK ] |
| Package: MotifDb |
| Version: 1.22.0 |
| Command: rm -rf MotifDb.buildbin-libdir && mkdir MotifDb.buildbin-libdir && /Users/biocbuild/BBS/utils/build-universal.sh MotifDb_1.22.0.tar.gz /Library/Frameworks/R.framework/Versions/Current/Resources/bin/R MotifDb.buildbin-libdir |
| StartedAt: 2018-10-17 01:43:34 -0400 (Wed, 17 Oct 2018) |
| EndedAt: 2018-10-17 01:44:30 -0400 (Wed, 17 Oct 2018) |
| EllapsedTime: 56.0 seconds |
| RetCode: 0 |
| Status: OK |
| PackageFile: MotifDb_1.22.0.tgz |
| PackageFileSize: 3.504 MiB |
##############################################################################
##############################################################################
###
### Running command:
###
### rm -rf MotifDb.buildbin-libdir && mkdir MotifDb.buildbin-libdir && /Users/biocbuild/BBS/utils/build-universal.sh MotifDb_1.22.0.tar.gz /Library/Frameworks/R.framework/Versions/Current/Resources/bin/R MotifDb.buildbin-libdir
###
##############################################################################
##############################################################################
>>>>>>>
>>>>>>> INSTALLATION WITH 'R CMD INSTALL --preclean --no-multiarch --library=MotifDb.buildbin-libdir MotifDb_1.22.0.tar.gz'
>>>>>>>
* installing *source* package ‘MotifDb’ ...
** R
** inst
** byte-compile and prepare package for lazy loading
** help
*** installing help indices
** building package indices
** installing vignettes
** testing if installed package can be loaded
See system.file("LICENSE", package="MotifDb") for use restrictions.
* DONE (MotifDb)