| Back to Multiple platform build/check report for BioC 3.7 | 
 | 
This page was generated on 2018-10-17 08:51:13 -0400 (Wed, 17 Oct 2018).
| Package 893/1561 | Hostname | OS / Arch | INSTALL | BUILD | CHECK | BUILD BIN | ||||||
| MethylSeekR 1.20.0 Lukas Burger 
 | malbec2 | Linux (Ubuntu 16.04.1 LTS) / x86_64 | OK | OK | OK |  | ||||||
| tokay2 | Windows Server 2012 R2 Standard / x64 | OK | OK | OK | OK |  | ||||||
| merida2 | OS X 10.11.6 El Capitan / x86_64 | OK | OK | OK | [ OK ] |  | 
| Package: MethylSeekR | 
| Version: 1.20.0 | 
| Command: rm -rf MethylSeekR.buildbin-libdir && mkdir MethylSeekR.buildbin-libdir && /Users/biocbuild/BBS/utils/build-universal.sh MethylSeekR_1.20.0.tar.gz /Library/Frameworks/R.framework/Versions/Current/Resources/bin/R MethylSeekR.buildbin-libdir | 
| StartedAt: 2018-10-17 01:41:13 -0400 (Wed, 17 Oct 2018) | 
| EndedAt: 2018-10-17 01:41:58 -0400 (Wed, 17 Oct 2018) | 
| EllapsedTime: 45.6 seconds | 
| RetCode: 0 | 
| Status: OK | 
| PackageFile: MethylSeekR_1.20.0.tgz | 
| PackageFileSize: 1.697 MiB | 
############################################################################## ############################################################################## ### ### Running command: ### ### rm -rf MethylSeekR.buildbin-libdir && mkdir MethylSeekR.buildbin-libdir && /Users/biocbuild/BBS/utils/build-universal.sh MethylSeekR_1.20.0.tar.gz /Library/Frameworks/R.framework/Versions/Current/Resources/bin/R MethylSeekR.buildbin-libdir ### ############################################################################## ############################################################################## >>>>>>> >>>>>>> INSTALLATION WITH 'R CMD INSTALL --preclean --no-multiarch --library=MethylSeekR.buildbin-libdir MethylSeekR_1.20.0.tar.gz' >>>>>>> * installing *source* package ‘MethylSeekR’ ... ** R ** inst ** byte-compile and prepare package for lazy loading ** help *** installing help indices ** building package indices ** installing vignettes ** testing if installed package can be loaded * DONE (MethylSeekR)