| Back to Multiple platform build/check report for BioC 3.7 |
|
This page was generated on 2018-10-17 08:42:49 -0400 (Wed, 17 Oct 2018).
| Package 868/1561 | Hostname | OS / Arch | INSTALL | BUILD | CHECK | BUILD BIN | ||||||
| MetaboSignal 1.10.0 Andrea Rodriguez-Martinez
| malbec2 | Linux (Ubuntu 16.04.1 LTS) / x86_64 | OK | OK | OK | |||||||
| tokay2 | Windows Server 2012 R2 Standard / x64 | OK | OK | OK | [ OK ] | |||||||
| merida2 | OS X 10.11.6 El Capitan / x86_64 | OK | OK | OK | OK |
| Package: MetaboSignal |
| Version: 1.10.0 |
| Command: rm -rf MetaboSignal.buildbin-libdir && mkdir MetaboSignal.buildbin-libdir && C:\Users\biocbuild\bbs-3.7-bioc\R\bin\R.exe CMD INSTALL --merge-multiarch --build --library=MetaboSignal.buildbin-libdir MetaboSignal_1.10.0.tar.gz |
| StartedAt: 2018-10-17 06:39:34 -0400 (Wed, 17 Oct 2018) |
| EndedAt: 2018-10-17 06:40:19 -0400 (Wed, 17 Oct 2018) |
| EllapsedTime: 44.9 seconds |
| RetCode: 0 |
| Status: OK |
| PackageFile: MetaboSignal_1.10.0.zip |
| PackageFileSize: 2.7 MiB |
##############################################################################
##############################################################################
###
### Running command:
###
### rm -rf MetaboSignal.buildbin-libdir && mkdir MetaboSignal.buildbin-libdir && C:\Users\biocbuild\bbs-3.7-bioc\R\bin\R.exe CMD INSTALL --merge-multiarch --build --library=MetaboSignal.buildbin-libdir MetaboSignal_1.10.0.tar.gz
###
##############################################################################
##############################################################################
install for i386
* installing *source* package 'MetaboSignal' ...
** R
** data
*** moving datasets to lazyload DB
** inst
** byte-compile and prepare package for lazy loading
** help
*** installing help indices
converting help for package 'MetaboSignal'
finding HTML links ... done
MS2_mergeNetworks html
MS2_ppiNetwork html
MS_changeNames html
MS_convertGene html
MS_distances html
MS_exportCytoscape html
MS_findMappedNodes html
MS_getPathIds html
MS_keggFinder html
MS_keggNetwork html
MS_nodeBW html
MS_removeDrugs html
MS_removeNode html
MS_replaceNode html
MS_shortestPaths html
MS_shortestPathsNetwork html
MS_tissueFilter html
MS_topologyFilter html
MetaboSignal_table html
directionality_reactions html
hpaNormalTissue html
keggNet_example html
kegg_pathways html
mergedNet_example html
ppiNet_example html
regulatory_interactions html
** building package indices
** installing vignettes
** testing if installed package can be loaded
In R CMD INSTALL
install for x64
* installing *source* package 'MetaboSignal' ...
** testing if installed package can be loaded
* MD5 sums
packaged installation of 'MetaboSignal' as MetaboSignal_1.10.0.zip
* DONE (MetaboSignal)
In R CMD INSTALL
In R CMD INSTALL