| Back to Multiple platform build/check report for BioC 3.7 |
|
This page was generated on 2018-10-17 08:33:12 -0400 (Wed, 17 Oct 2018).
| Package 835/1561 | Hostname | OS / Arch | INSTALL | BUILD | CHECK | BUILD BIN | ||||||
| MassSpecWavelet 1.46.0 Pan Du
| malbec2 | Linux (Ubuntu 16.04.1 LTS) / x86_64 | OK | OK | OK | |||||||
| tokay2 | Windows Server 2012 R2 Standard / x64 | OK | OK | OK | [ OK ] | |||||||
| merida2 | OS X 10.11.6 El Capitan / x86_64 | OK | OK | OK | OK |
| Package: MassSpecWavelet |
| Version: 1.46.0 |
| Command: rm -rf MassSpecWavelet.buildbin-libdir && mkdir MassSpecWavelet.buildbin-libdir && C:\Users\biocbuild\bbs-3.7-bioc\R\bin\R.exe CMD INSTALL --merge-multiarch --build --library=MassSpecWavelet.buildbin-libdir MassSpecWavelet_1.46.0.tar.gz |
| StartedAt: 2018-10-17 06:38:29 -0400 (Wed, 17 Oct 2018) |
| EndedAt: 2018-10-17 06:38:48 -0400 (Wed, 17 Oct 2018) |
| EllapsedTime: 18.7 seconds |
| RetCode: 0 |
| Status: OK |
| PackageFile: MassSpecWavelet_1.46.0.zip |
| PackageFileSize: 1.184 MiB |
##############################################################################
##############################################################################
###
### Running command:
###
### rm -rf MassSpecWavelet.buildbin-libdir && mkdir MassSpecWavelet.buildbin-libdir && C:\Users\biocbuild\bbs-3.7-bioc\R\bin\R.exe CMD INSTALL --merge-multiarch --build --library=MassSpecWavelet.buildbin-libdir MassSpecWavelet_1.46.0.tar.gz
###
##############################################################################
##############################################################################
install for i386
* installing *source* package 'MassSpecWavelet' ...
** libs
C:/Rtools/mingw_32/bin/gcc -I"C:/Users/BIOCBU˜1/BBS-3˜1.7-B/R/include" -DNDEBUG -I"C:/extsoft/include" -O3 -Wall -std=gnu99 -mtune=generic -c convolve2.c -o convolve2.o
C:/Rtools/mingw_32/bin/gcc -shared -s -static-libgcc -o MassSpecWavelet.dll tmp.def convolve2.o -LC:/extsoft/lib/i386 -LC:/extsoft/lib -LC:/Users/BIOCBU˜1/BBS-3˜1.7-B/R/bin/i386 -lR
installing to C:/Users/biocbuild/bbs-3.7-bioc/meat/MassSpecWavelet.buildbin-libdir/MassSpecWavelet/libs/i386
** R
** data
** inst
** byte-compile and prepare package for lazy loading
** help
*** installing help indices
converting help for package 'MassSpecWavelet'
finding HTML links ... done
MassSpecWavelet.package html
cwt html
exampleMS html
extendLength html
extendNBase html
getLocalMaximumCWT html
getRidge html
getRidgeLength html
getRidgeValue html
identifyMajorPeaks html
localMaximum html
mzInd2vRange html
mzV2indRange html
peakDetectionCWT html
plotLocalMax html
plotPeak html
plotRidgeList html
sav.gol html
smoothDWT html
tuneInPeakInfo html
** building package indices
** installing vignettes
** testing if installed package can be loaded
In R CMD INSTALL
install for x64
* installing *source* package 'MassSpecWavelet' ...
** libs
C:/Rtools/mingw_64/bin/gcc -I"C:/Users/BIOCBU˜1/BBS-3˜1.7-B/R/include" -DNDEBUG -I"C:/extsoft/include" -O2 -Wall -std=gnu99 -mtune=generic -c convolve2.c -o convolve2.o
C:/Rtools/mingw_64/bin/gcc -shared -s -static-libgcc -o MassSpecWavelet.dll tmp.def convolve2.o -LC:/extsoft/lib/x64 -LC:/extsoft/lib -LC:/Users/BIOCBU˜1/BBS-3˜1.7-B/R/bin/x64 -lR
installing to C:/Users/biocbuild/bbs-3.7-bioc/meat/MassSpecWavelet.buildbin-libdir/MassSpecWavelet/libs/x64
** testing if installed package can be loaded
* MD5 sums
packaged installation of 'MassSpecWavelet' as MassSpecWavelet_1.46.0.zip
* DONE (MassSpecWavelet)
In R CMD INSTALL
In R CMD INSTALL