| Back to Multiple platform build/check report for BioC 3.7 |
|
This page was generated on 2018-10-17 08:44:36 -0400 (Wed, 17 Oct 2018).
| Package 958/1561 | Hostname | OS / Arch | INSTALL | BUILD | CHECK | BUILD BIN | ||||||
| MSstatsQC 1.2.0 Eralp Dogu
| malbec2 | Linux (Ubuntu 16.04.1 LTS) / x86_64 | OK | OK | OK | |||||||
| tokay2 | Windows Server 2012 R2 Standard / x64 | OK | OK | OK | [ OK ] | |||||||
| merida2 | OS X 10.11.6 El Capitan / x86_64 | OK | OK | OK | OK |
| Package: MSstatsQC |
| Version: 1.2.0 |
| Command: rm -rf MSstatsQC.buildbin-libdir && mkdir MSstatsQC.buildbin-libdir && C:\Users\biocbuild\bbs-3.7-bioc\R\bin\R.exe CMD INSTALL --merge-multiarch --build --library=MSstatsQC.buildbin-libdir MSstatsQC_1.2.0.tar.gz |
| StartedAt: 2018-10-17 06:42:49 -0400 (Wed, 17 Oct 2018) |
| EndedAt: 2018-10-17 06:43:18 -0400 (Wed, 17 Oct 2018) |
| EllapsedTime: 29.1 seconds |
| RetCode: 0 |
| Status: OK |
| PackageFile: MSstatsQC_1.2.0.zip |
| PackageFileSize: 1.039 MiB |
##############################################################################
##############################################################################
###
### Running command:
###
### rm -rf MSstatsQC.buildbin-libdir && mkdir MSstatsQC.buildbin-libdir && C:\Users\biocbuild\bbs-3.7-bioc\R\bin\R.exe CMD INSTALL --merge-multiarch --build --library=MSstatsQC.buildbin-libdir MSstatsQC_1.2.0.tar.gz
###
##############################################################################
##############################################################################
install for i386
* installing *source* package 'MSstatsQC' ...
** R
** data
*** moving datasets to lazyload DB
** inst
** byte-compile and prepare package for lazy loading
** help
*** installing help indices
converting help for package 'MSstatsQC'
finding HTML links ... done
CUSUMChart html
ChangePointEstimator html
DataProcess html
DecisionMap html
MSnbaseToMSstatsQC html
RadarPlot html
RiverPlot html
S9Site54 html
XmRChart html
** building package indices
** installing vignettes
** testing if installed package can be loaded
In R CMD INSTALL
install for x64
* installing *source* package 'MSstatsQC' ...
** testing if installed package can be loaded
* MD5 sums
packaged installation of 'MSstatsQC' as MSstatsQC_1.2.0.zip
* DONE (MSstatsQC)
In R CMD INSTALL
In R CMD INSTALL