| Back to Multiple platform build/check report for BioC 3.7 |
|
This page was generated on 2018-10-17 08:53:43 -0400 (Wed, 17 Oct 2018).
| Package 950/1561 | Hostname | OS / Arch | INSTALL | BUILD | CHECK | BUILD BIN | ||||||
| MSGFgui 1.14.0 Thomas Lin Pedersen
| malbec2 | Linux (Ubuntu 16.04.1 LTS) / x86_64 | OK | OK | OK | |||||||
| tokay2 | Windows Server 2012 R2 Standard / x64 | OK | OK | OK | OK | |||||||
| merida2 | OS X 10.11.6 El Capitan / x86_64 | OK | OK | OK | [ OK ] |
| Package: MSGFgui |
| Version: 1.14.0 |
| Command: rm -rf MSGFgui.buildbin-libdir && mkdir MSGFgui.buildbin-libdir && /Users/biocbuild/BBS/utils/build-universal.sh MSGFgui_1.14.0.tar.gz /Library/Frameworks/R.framework/Versions/Current/Resources/bin/R MSGFgui.buildbin-libdir |
| StartedAt: 2018-10-17 01:44:02 -0400 (Wed, 17 Oct 2018) |
| EndedAt: 2018-10-17 01:45:01 -0400 (Wed, 17 Oct 2018) |
| EllapsedTime: 59.8 seconds |
| RetCode: 0 |
| Status: OK |
| PackageFile: MSGFgui_1.14.0.tgz |
| PackageFileSize: 1.389 MiB |
############################################################################## ############################################################################## ### ### Running command: ### ### rm -rf MSGFgui.buildbin-libdir && mkdir MSGFgui.buildbin-libdir && /Users/biocbuild/BBS/utils/build-universal.sh MSGFgui_1.14.0.tar.gz /Library/Frameworks/R.framework/Versions/Current/Resources/bin/R MSGFgui.buildbin-libdir ### ############################################################################## ############################################################################## >>>>>>> >>>>>>> INSTALLATION WITH 'R CMD INSTALL --preclean --no-multiarch --library=MSGFgui.buildbin-libdir MSGFgui_1.14.0.tar.gz' >>>>>>> * installing *source* package ‘MSGFgui’ ... ** R ** inst ** byte-compile and prepare package for lazy loading ** help *** installing help indices ** building package indices ** installing vignettes ** testing if installed package can be loaded * DONE (MSGFgui)