| Back to Multiple platform build/check report for BioC 3.7 |
|
This page was generated on 2018-10-17 08:42:39 -0400 (Wed, 17 Oct 2018).
| Package 932/1561 | Hostname | OS / Arch | INSTALL | BUILD | CHECK | BUILD BIN | ||||||
| MODA 1.6.0 Dong Li
| malbec2 | Linux (Ubuntu 16.04.1 LTS) / x86_64 | OK | OK | OK | |||||||
| tokay2 | Windows Server 2012 R2 Standard / x64 | OK | OK | OK | [ OK ] | |||||||
| merida2 | OS X 10.11.6 El Capitan / x86_64 | OK | OK | OK | OK |
| Package: MODA |
| Version: 1.6.0 |
| Command: rm -rf MODA.buildbin-libdir && mkdir MODA.buildbin-libdir && C:\Users\biocbuild\bbs-3.7-bioc\R\bin\R.exe CMD INSTALL --merge-multiarch --build --library=MODA.buildbin-libdir MODA_1.6.0.tar.gz |
| StartedAt: 2018-10-17 06:41:50 -0400 (Wed, 17 Oct 2018) |
| EndedAt: 2018-10-17 06:42:07 -0400 (Wed, 17 Oct 2018) |
| EllapsedTime: 16.2 seconds |
| RetCode: 0 |
| Status: OK |
| PackageFile: MODA_1.6.0.zip |
| PackageFileSize: 377 KiB |
##############################################################################
##############################################################################
###
### Running command:
###
### rm -rf MODA.buildbin-libdir && mkdir MODA.buildbin-libdir && C:\Users\biocbuild\bbs-3.7-bioc\R\bin\R.exe CMD INSTALL --merge-multiarch --build --library=MODA.buildbin-libdir MODA_1.6.0.tar.gz
###
##############################################################################
##############################################################################
install for i386
* installing *source* package 'MODA' ...
** R
** data
** inst
** byte-compile and prepare package for lazy loading
** help
*** installing help indices
converting help for package 'MODA'
finding HTML links ... done
CompareAllNets html
MIcondition html
ModuleFrequency html
NMImatrix html
PartitionDensity html
PartitionModularity html
WeightedModulePartitionAmoutain html
WeightedModulePartitionHierarchical html
WeightedModulePartitionLouvain html
WeightedModulePartitionSpectral html
comparemodulestwonets html
datExpr1 html
datExpr2 html
getPartition html
modulesRank html
recursiveigraph html
** building package indices
** installing vignettes
** testing if installed package can be loaded
In R CMD INSTALL
install for x64
* installing *source* package 'MODA' ...
** testing if installed package can be loaded
* MD5 sums
packaged installation of 'MODA' as MODA_1.6.0.zip
* DONE (MODA)
In R CMD INSTALL
In R CMD INSTALL