| Back to Multiple platform build/check report for BioC 3.7 |
|
This page was generated on 2018-10-17 08:42:17 -0400 (Wed, 17 Oct 2018).
| Package 930/1561 | Hostname | OS / Arch | INSTALL | BUILD | CHECK | BUILD BIN | ||||||
| MMDiff2 1.8.0 Gabriele Schweikert
| malbec2 | Linux (Ubuntu 16.04.1 LTS) / x86_64 | OK | OK | OK | |||||||
| tokay2 | Windows Server 2012 R2 Standard / x64 | [ OK ] | OK | WARNINGS | OK | |||||||
| merida2 | OS X 10.11.6 El Capitan / x86_64 | OK | OK | OK | OK |
| Package: MMDiff2 |
| Version: 1.8.0 |
| Command: C:\Users\biocbuild\bbs-3.7-bioc\R\bin\R.exe --arch i386 CMD INSTALL --no-multiarch MMDiff2 |
| StartedAt: 2018-10-16 20:04:53 -0400 (Tue, 16 Oct 2018) |
| EndedAt: 2018-10-16 20:05:42 -0400 (Tue, 16 Oct 2018) |
| EllapsedTime: 49.1 seconds |
| RetCode: 0 |
| Status: OK |
##############################################################################
##############################################################################
###
### Running command:
###
### C:\Users\biocbuild\bbs-3.7-bioc\R\bin\R.exe --arch i386 CMD INSTALL --no-multiarch MMDiff2
###
##############################################################################
##############################################################################
* installing to library 'C:/Users/biocbuild/bbs-3.7-bioc/R/library'
* installing *source* package 'MMDiff2' ...
** R
** data
** byte-compile and prepare package for lazy loading
Warning: replacing previous import 'GenomicRanges::windows' by 'grDevices::windows' when loading 'MMDiff2'
** help
*** installing help indices
converting help for package 'MMDiff2'
finding HTML links ... done
Cfp1-Peaks html
DBAmmd-Accessors html
DBAmmd-class html
MMD html
compDists html
compHists html
compPvals html
estimateFragmentCenters html
getPeakReads html
mm9-Genes html
myGeneric html
plotDISTS4Peak html
plotDists html
plotPeak html
reportResults html
runShinyMMDiff2 html
server.MMDiff2 html
ui.MMDiff2 html
** building package indices
** installing vignettes
** testing if installed package can be loaded
Warning: replacing previous import 'GenomicRanges::windows' by 'grDevices::windows' when loading 'MMDiff2'
* DONE (MMDiff2)
Making 'packages.html' ... done
In R CMD INSTALL