| Back to Multiple platform build/check report for BioC 3.7 | 
  | 
This page was generated on 2018-10-17 08:38:18 -0400 (Wed, 17 Oct 2018).
| Package 929/1561 | Hostname | OS / Arch | INSTALL | BUILD | CHECK | BUILD BIN | ||||||
| MLSeq 1.20.3 Gokmen Zararsiz 
  | malbec2 | Linux (Ubuntu 16.04.1 LTS) / x86_64 | OK | OK | OK | |||||||
| tokay2 | Windows Server 2012 R2 Standard / x64 | OK | OK | OK | [ OK ] | |||||||
| merida2 | OS X 10.11.6 El Capitan / x86_64 | OK | OK | OK | OK | 
| Package: MLSeq | 
| Version: 1.20.3 | 
| Command: rm -rf MLSeq.buildbin-libdir && mkdir MLSeq.buildbin-libdir && C:\Users\biocbuild\bbs-3.7-bioc\R\bin\R.exe CMD INSTALL --merge-multiarch --build --library=MLSeq.buildbin-libdir MLSeq_1.20.3.tar.gz | 
| StartedAt: 2018-10-17 06:41:45 -0400 (Wed, 17 Oct 2018) | 
| EndedAt: 2018-10-17 06:42:21 -0400 (Wed, 17 Oct 2018) | 
| EllapsedTime: 36.1 seconds | 
| RetCode: 0 | 
| Status: OK | 
| PackageFile: MLSeq_1.20.3.zip | 
| PackageFileSize: 1.097 MiB | 
##############################################################################
##############################################################################
###
### Running command:
###
###   rm -rf MLSeq.buildbin-libdir && mkdir MLSeq.buildbin-libdir && C:\Users\biocbuild\bbs-3.7-bioc\R\bin\R.exe CMD INSTALL --merge-multiarch --build --library=MLSeq.buildbin-libdir MLSeq_1.20.3.tar.gz
###
##############################################################################
##############################################################################
install for i386
* installing *source* package 'MLSeq' ...
** R
** data
** inst
** byte-compile and prepare package for lazy loading
** help
*** installing help indices
  converting help for package 'MLSeq'
    finding HTML links ... done
    Available-classifiers                   html  
    MLSeq-class                             html  
    MLSeq-package                           html  
    MLSeqMetaData-class                     html  
    MLSeqModelInfo-class                    html  
    cervical                                html  
    classify                                html  
    confusionMat                            html  
    control                                 html  
    discrete.train-class                    html  
    discreteControl                         html  
    input                                   html  
    isUpdated                               html  
    metaData                                html  
    method                                  html  
    modelInfo                               html  
    normalization                           html  
    plot                                    html  
    preProcessing                           html  
    predict                                 html  
    print                                   html  
    ref                                     html  
    selectedGenes                           html  
    show                                    html  
    trainParameters                         html  
    trained                                 html  
    transformation                          html  
    update                                  html  
    voom.train-class                        html  
    voomControl                             html  
** building package indices
** installing vignettes
** testing if installed package can be loaded
In R CMD INSTALL
install for x64
* installing *source* package 'MLSeq' ...
** testing if installed package can be loaded
* MD5 sums
packaged installation of 'MLSeq' as MLSeq_1.20.3.zip
* DONE (MLSeq)
In R CMD INSTALL
In R CMD INSTALL