| Back to Multiple platform build/check report for BioC 3.7 |
|
This page was generated on 2018-10-17 08:32:14 -0400 (Wed, 17 Oct 2018).
| Package 927/1561 | Hostname | OS / Arch | INSTALL | BUILD | CHECK | BUILD BIN | ||||||
| MLInterfaces 1.60.1 V. Carey
| malbec2 | Linux (Ubuntu 16.04.1 LTS) / x86_64 | OK | OK | WARNINGS | |||||||
| tokay2 | Windows Server 2012 R2 Standard / x64 | OK | OK | WARNINGS | [ OK ] | |||||||
| merida2 | OS X 10.11.6 El Capitan / x86_64 | OK | OK | WARNINGS | OK |
| Package: MLInterfaces |
| Version: 1.60.1 |
| Command: rm -rf MLInterfaces.buildbin-libdir && mkdir MLInterfaces.buildbin-libdir && C:\Users\biocbuild\bbs-3.7-bioc\R\bin\R.exe CMD INSTALL --merge-multiarch --build --library=MLInterfaces.buildbin-libdir MLInterfaces_1.60.1.tar.gz |
| StartedAt: 2018-10-17 06:41:41 -0400 (Wed, 17 Oct 2018) |
| EndedAt: 2018-10-17 06:42:19 -0400 (Wed, 17 Oct 2018) |
| EllapsedTime: 37.9 seconds |
| RetCode: 0 |
| Status: OK |
| PackageFile: MLInterfaces_1.60.1.zip |
| PackageFileSize: 1.479 MiB |
##############################################################################
##############################################################################
###
### Running command:
###
### rm -rf MLInterfaces.buildbin-libdir && mkdir MLInterfaces.buildbin-libdir && C:\Users\biocbuild\bbs-3.7-bioc\R\bin\R.exe CMD INSTALL --merge-multiarch --build --library=MLInterfaces.buildbin-libdir MLInterfaces_1.60.1.tar.gz
###
##############################################################################
##############################################################################
install for i386
* installing *source* package 'MLInterfaces' ...
** R
** inst
** byte-compile and prepare package for lazy loading
Warning: replacing previous import 'BiocGenerics::var' by 'stats::var' when loading 'MLInterfaces'
** help
*** installing help indices
converting help for package 'MLInterfaces'
finding HTML links ... done
MLIntInternals html
MLearn-new html
Rd warning: C:/Users/biocbuild/bbs-3.7-bioc/tmpdir/Rtmpctd5ER/R.INSTALL11a01ed44a12/MLInterfaces/man/MLearn-new.Rd:163: file link 'mclapply' in package 'parallel' does not exist and so has been treated as a topic
RAB html
balKfold.xvspec html
classifierOutput-class html
clusteringOutput-class html
confuMat-methods html
confuTab html
fs.absT html
fsHistory html
hclustWidget html
Rd warning: C:/Users/biocbuild/bbs-3.7-bioc/tmpdir/Rtmpctd5ER/R.INSTALL11a01ed44a12/MLInterfaces/man/hclustWidget.Rd:35: file link 'ExpressionSet-class' in package 'Biobase' does not exist and so has been treated as a topic
learnerSchema-class html
performance-analytics html
planarPlot-methods html
plspinHcube html
predict.classifierOutput html
projectLearnerToGrid html
projectedLearner-class html
raboostCont-class html
varImpStruct-class html
xvalLoop html
xvalSpec html
Rd warning: C:/Users/biocbuild/bbs-3.7-bioc/tmpdir/Rtmpctd5ER/R.INSTALL11a01ed44a12/MLInterfaces/man/xvalSpec.Rd:43: file link 'mclapply' in package 'parallel' does not exist and so has been treated as a topic
** building package indices
** installing vignettes
** testing if installed package can be loaded
Warning: replacing previous import 'BiocGenerics::var' by 'stats::var' when loading 'MLInterfaces'
In R CMD INSTALL
install for x64
* installing *source* package 'MLInterfaces' ...
** testing if installed package can be loaded
Warning: replacing previous import 'BiocGenerics::var' by 'stats::var' when loading 'MLInterfaces'
* MD5 sums
packaged installation of 'MLInterfaces' as MLInterfaces_1.60.1.zip
* DONE (MLInterfaces)
In R CMD INSTALL
In R CMD INSTALL