| Back to Multiple platform build/check report for BioC 3.7 |
|
This page was generated on 2018-10-17 08:53:54 -0400 (Wed, 17 Oct 2018).
| Package 841/1561 | Hostname | OS / Arch | INSTALL | BUILD | CHECK | BUILD BIN | ||||||
| MBAmethyl 1.14.0 Tao Wang
| malbec2 | Linux (Ubuntu 16.04.1 LTS) / x86_64 | OK | OK | OK | |||||||
| tokay2 | Windows Server 2012 R2 Standard / x64 | OK | OK | OK | OK | |||||||
| merida2 | OS X 10.11.6 El Capitan / x86_64 | OK | OK | OK | [ OK ] |
| Package: MBAmethyl |
| Version: 1.14.0 |
| Command: rm -rf MBAmethyl.buildbin-libdir && mkdir MBAmethyl.buildbin-libdir && /Users/biocbuild/BBS/utils/build-universal.sh MBAmethyl_1.14.0.tar.gz /Library/Frameworks/R.framework/Versions/Current/Resources/bin/R MBAmethyl.buildbin-libdir |
| StartedAt: 2018-10-17 01:38:38 -0400 (Wed, 17 Oct 2018) |
| EndedAt: 2018-10-17 01:39:25 -0400 (Wed, 17 Oct 2018) |
| EllapsedTime: 47.7 seconds |
| RetCode: 0 |
| Status: OK |
| PackageFile: MBAmethyl_1.14.0.tgz |
| PackageFileSize: 123.1 KiB |
############################################################################## ############################################################################## ### ### Running command: ### ### rm -rf MBAmethyl.buildbin-libdir && mkdir MBAmethyl.buildbin-libdir && /Users/biocbuild/BBS/utils/build-universal.sh MBAmethyl_1.14.0.tar.gz /Library/Frameworks/R.framework/Versions/Current/Resources/bin/R MBAmethyl.buildbin-libdir ### ############################################################################## ############################################################################## >>>>>>> >>>>>>> INSTALLATION WITH 'R CMD INSTALL --preclean --no-multiarch --library=MBAmethyl.buildbin-libdir MBAmethyl_1.14.0.tar.gz' >>>>>>> * installing *source* package ‘MBAmethyl’ ... ** R ** inst ** byte-compile and prepare package for lazy loading ** help *** installing help indices ** building package indices ** installing vignettes ** testing if installed package can be loaded * DONE (MBAmethyl)