| Back to Multiple platform build/check report for BioC 3.7 |
|
This page was generated on 2018-10-17 08:43:06 -0400 (Wed, 17 Oct 2018).
| Package 811/1561 | Hostname | OS / Arch | INSTALL | BUILD | CHECK | BUILD BIN | ||||||
| M3Drop 1.6.0 Tallulah Andrews
| malbec2 | Linux (Ubuntu 16.04.1 LTS) / x86_64 | OK | OK | OK | |||||||
| tokay2 | Windows Server 2012 R2 Standard / x64 | OK | OK | OK | [ OK ] | |||||||
| merida2 | OS X 10.11.6 El Capitan / x86_64 | OK | OK | OK | OK |
| Package: M3Drop |
| Version: 1.6.0 |
| Command: rm -rf M3Drop.buildbin-libdir && mkdir M3Drop.buildbin-libdir && C:\Users\biocbuild\bbs-3.7-bioc\R\bin\R.exe CMD INSTALL --merge-multiarch --build --library=M3Drop.buildbin-libdir M3Drop_1.6.0.tar.gz |
| StartedAt: 2018-10-17 06:37:33 -0400 (Wed, 17 Oct 2018) |
| EndedAt: 2018-10-17 06:37:46 -0400 (Wed, 17 Oct 2018) |
| EllapsedTime: 12.8 seconds |
| RetCode: 0 |
| Status: OK |
| PackageFile: M3Drop_1.6.0.zip |
| PackageFileSize: 2.435 MiB |
##############################################################################
##############################################################################
###
### Running command:
###
### rm -rf M3Drop.buildbin-libdir && mkdir M3Drop.buildbin-libdir && C:\Users\biocbuild\bbs-3.7-bioc\R\bin\R.exe CMD INSTALL --merge-multiarch --build --library=M3Drop.buildbin-libdir M3Drop_1.6.0.tar.gz
###
##############################################################################
##############################################################################
install for i386
* installing *source* package 'M3Drop' ...
** R
** inst
** byte-compile and prepare package for lazy loading
** help
*** installing help indices
converting help for package 'M3Drop'
finding HTML links ... done
Brennecke_getVariableGenes html
Fitting_Dropout_Models html
M3D_Clean_Data html
M3D_Differential_Expression html
M3D_Dropout_Models html
M3D_Expression_Heatmap html
M3D_Get_Extremes html
M3D_Get_Heatmap_Cell_Clusters html
M3D_Test_Shift html
M3D_ThreeSet_Venn html
M3D_getmarkers html
** building package indices
** installing vignettes
** testing if installed package can be loaded
In R CMD INSTALL
install for x64
* installing *source* package 'M3Drop' ...
** testing if installed package can be loaded
* MD5 sums
packaged installation of 'M3Drop' as M3Drop_1.6.0.zip
* DONE (M3Drop)
In R CMD INSTALL
In R CMD INSTALL