| Back to Multiple platform build/check report for BioC 3.7 |
|
This page was generated on 2018-10-17 08:39:03 -0400 (Wed, 17 Oct 2018).
| Package 810/1561 | Hostname | OS / Arch | INSTALL | BUILD | CHECK | BUILD BIN | ||||||
| M3D 1.14.0 Tom Mayo
| malbec2 | Linux (Ubuntu 16.04.1 LTS) / x86_64 | OK | OK | OK | |||||||
| tokay2 | Windows Server 2012 R2 Standard / x64 | OK | OK | OK | [ OK ] | |||||||
| merida2 | OS X 10.11.6 El Capitan / x86_64 | OK | OK | OK | OK |
| Package: M3D |
| Version: 1.14.0 |
| Command: rm -rf M3D.buildbin-libdir && mkdir M3D.buildbin-libdir && C:\Users\biocbuild\bbs-3.7-bioc\R\bin\R.exe --arch x64 CMD INSTALL --no-multiarch --build --library=M3D.buildbin-libdir M3D_1.14.0.tar.gz |
| StartedAt: 2018-10-17 06:37:31 -0400 (Wed, 17 Oct 2018) |
| EndedAt: 2018-10-17 06:38:00 -0400 (Wed, 17 Oct 2018) |
| EllapsedTime: 29.2 seconds |
| RetCode: 0 |
| Status: OK |
| PackageFile: M3D_1.14.0.zip |
| PackageFileSize: 945.5 KiB |
##############################################################################
##############################################################################
###
### Running command:
###
### rm -rf M3D.buildbin-libdir && mkdir M3D.buildbin-libdir && C:\Users\biocbuild\bbs-3.7-bioc\R\bin\R.exe --arch x64 CMD INSTALL --no-multiarch --build --library=M3D.buildbin-libdir M3D_1.14.0.tar.gz
###
##############################################################################
##############################################################################
* installing *source* package 'M3D' ...
** libs
C:/Rtools/mingw_64/bin/g++ -I"C:/Users/biocbuild/bbs-3.7-bioc/R/include" -DNDEBUG -I"C:/Users/biocbuild/bbs-3.7-bioc/R/library/Rcpp/include" -I"C:/extsoft/include" -O2 -Wall -mtune=generic -c RcppExports.cpp -o RcppExports.o
C:/Rtools/mingw_64/bin/g++ -I"C:/Users/biocbuild/bbs-3.7-bioc/R/include" -DNDEBUG -I"C:/Users/biocbuild/bbs-3.7-bioc/R/library/Rcpp/include" -I"C:/extsoft/include" -O2 -Wall -mtune=generic -c cpp_fns.cpp -o cpp_fns.o
C:/Rtools/mingw_64/bin/g++ -shared -s -static-libgcc -o M3D.dll tmp.def RcppExports.o cpp_fns.o -LC:/extsoft/lib/x64 -LC:/extsoft/lib -LC:/Users/biocbuild/bbs-3.7-bioc/R/bin/x64 -lR
installing to C:/Users/biocbuild/bbs-3.7-bioc/meat/M3D.buildbin-libdir/M3D/libs/x64
** R
** data
** inst
** byte-compile and prepare package for lazy loading
** help
*** installing help indices
converting help for package 'M3D'
finding HTML links ... done
CpGsDemo html
M3D-package html
M3D_Single html
M3D_Wrapper html
M3D_Wrapper_lite html
MMDlistDemo html
PDemo html
determineGroupComps html
findComps html
medianFreq html
median_freq html
plotCoverageSampleProfiles html
plotMethProfile html
plotMethSampleProfiles html
pvals html
pvals_lite html
readBedFiles html
readBedRaw html
rrbsDemo html
test_colData_structure html
** building package indices
** installing vignettes
** testing if installed package can be loaded
* MD5 sums
packaged installation of 'M3D' as M3D_1.14.0.zip
* DONE (M3D)
In R CMD INSTALL