| Back to Multiple platform build/check report for BioC 3.7 |
|
This page was generated on 2018-10-17 08:58:38 -0400 (Wed, 17 Oct 2018).
| Package 809/1561 | Hostname | OS / Arch | INSTALL | BUILD | CHECK | BUILD BIN | ||||||
| M3C 1.2.0 Christopher John
| malbec2 | Linux (Ubuntu 16.04.1 LTS) / x86_64 | OK | OK | OK | |||||||
| tokay2 | Windows Server 2012 R2 Standard / x64 | OK | OK | OK | OK | |||||||
| merida2 | OS X 10.11.6 El Capitan / x86_64 | OK | OK | [ OK ] | OK |
| Package: M3C |
| Version: 1.2.0 |
| Command: /Library/Frameworks/R.framework/Versions/Current/Resources/bin/R CMD check --install=check:M3C.install-out.txt --library=/Library/Frameworks/R.framework/Versions/Current/Resources/library --no-vignettes --timings M3C_1.2.0.tar.gz |
| StartedAt: 2018-10-16 22:18:13 -0400 (Tue, 16 Oct 2018) |
| EndedAt: 2018-10-16 22:21:51 -0400 (Tue, 16 Oct 2018) |
| EllapsedTime: 217.3 seconds |
| RetCode: 0 |
| Status: OK |
| CheckDir: M3C.Rcheck |
| Warnings: 0 |
##############################################################################
##############################################################################
###
### Running command:
###
### /Library/Frameworks/R.framework/Versions/Current/Resources/bin/R CMD check --install=check:M3C.install-out.txt --library=/Library/Frameworks/R.framework/Versions/Current/Resources/library --no-vignettes --timings M3C_1.2.0.tar.gz
###
##############################################################################
##############################################################################
* using log directory ‘/Users/biocbuild/bbs-3.7-bioc/meat/M3C.Rcheck’
* using R version 3.5.1 Patched (2018-07-12 r74967)
* using platform: x86_64-apple-darwin15.6.0 (64-bit)
* using session charset: UTF-8
* using option ‘--no-vignettes’
* checking for file ‘M3C/DESCRIPTION’ ... OK
* this is package ‘M3C’ version ‘1.2.0’
* package encoding: UTF-8
* checking package namespace information ... OK
* checking package dependencies ... OK
* checking if this is a source package ... OK
* checking if there is a namespace ... OK
* checking for hidden files and directories ... OK
* checking for portable file names ... OK
* checking for sufficient/correct file permissions ... OK
* checking whether package ‘M3C’ can be installed ... OK
* checking installed package size ... OK
* checking package directory ... OK
* checking ‘build’ directory ... OK
* checking DESCRIPTION meta-information ... OK
* checking top-level files ... OK
* checking for left-over files ... OK
* checking index information ... OK
* checking package subdirectories ... OK
* checking R files for non-ASCII characters ... OK
* checking R files for syntax errors ... OK
* checking whether the package can be loaded ... OK
* checking whether the package can be loaded with stated dependencies ... OK
* checking whether the package can be unloaded cleanly ... OK
* checking whether the namespace can be loaded with stated dependencies ... OK
* checking whether the namespace can be unloaded cleanly ... OK
* checking dependencies in R code ... OK
* checking S3 generic/method consistency ... OK
* checking replacement functions ... OK
* checking foreign function calls ... OK
* checking R code for possible problems ... NOTE
CDF: no visible binding for global variable ‘consensusindex’
CDF: no visible binding for global variable ‘k’
CDF: no visible global function definition for ‘png’
CDF: no visible global function definition for ‘dev.off’
CDF: no visible binding for global variable ‘K’
CDF: no visible binding for global variable ‘PAC_SCORE’
M3C: no visible binding for global variable ‘i’
M3C: no visible binding for global variable ‘K’
M3C: no visible binding for global variable ‘RCSI’
M3C: no visible binding for global variable ‘P_SCORE’
M3C: no visible global function definition for ‘png’
M3C: no visible global function definition for ‘dev.off’
M3Cdendcomputations: no visible global function definition for ‘png’
M3Cdendcomputations: no visible global function definition for
‘dev.off’
M3Creal: no visible global function definition for ‘colorRampPalette’
M3Creal: no visible global function definition for ‘png’
M3Creal: no visible global function definition for ‘dev.off’
clustersim: no visible binding for global variable ‘X3’
clustersim: no visible binding for global variable ‘PC1’
clustersim: no visible binding for global variable ‘PC2’
clustersim: no visible global function definition for ‘png’
clustersim: no visible global function definition for ‘dev.off’
myPal: no visible global function definition for ‘rgb’
pca: no visible binding for global variable ‘PC1’
pca: no visible binding for global variable ‘PC2’
pca: no visible global function definition for ‘png’
pca: no visible global function definition for ‘dev.off’
Undefined global functions or variables:
K PAC_SCORE PC1 PC2 P_SCORE RCSI X3 colorRampPalette consensusindex
dev.off i k png rgb
Consider adding
importFrom("grDevices", "colorRampPalette", "dev.off", "png", "rgb")
to your NAMESPACE file.
* checking Rd files ... OK
* checking Rd metadata ... OK
* checking Rd cross-references ... OK
* checking for missing documentation entries ... OK
* checking for code/documentation mismatches ... OK
* checking Rd \usage sections ... OK
* checking Rd contents ... OK
* checking for unstated dependencies in examples ... OK
* checking contents of ‘data’ directory ... OK
* checking data for non-ASCII characters ... OK
* checking data for ASCII and uncompressed saves ... OK
* checking files in ‘vignettes’ ... OK
* checking examples ... OK
Examples with CPU or elapsed time > 5s
user system elapsed
clustersim 5.207 0.192 5.433
M3C 2.356 0.133 115.505
* checking for unstated dependencies in vignettes ... OK
* checking package vignettes in ‘inst/doc’ ... OK
* checking running R code from vignettes ... SKIPPED
* checking re-building of vignette outputs ... SKIPPED
* checking PDF version of manual ... OK
* DONE
Status: 1 NOTE
See
‘/Users/biocbuild/bbs-3.7-bioc/meat/M3C.Rcheck/00check.log’
for details.
M3C.Rcheck/00install.out
############################################################################## ############################################################################## ### ### Running command: ### ### /Library/Frameworks/R.framework/Versions/Current/Resources/bin/R CMD INSTALL M3C ### ############################################################################## ############################################################################## * installing to library ‘/Library/Frameworks/R.framework/Versions/3.5/Resources/library’ * installing *source* package ‘M3C’ ... ** R ** data *** moving datasets to lazyload DB ** byte-compile and prepare package for lazy loading ** help *** installing help indices ** building package indices ** installing vignettes ** testing if installed package can be loaded * DONE (M3C)
M3C.Rcheck/M3C-Ex.timings
| name | user | system | elapsed | |
| M3C | 2.356 | 0.133 | 115.505 | |
| clustersim | 5.207 | 0.192 | 5.433 | |
| pca | 0.043 | 0.002 | 0.044 | |